{
 "extent": {
  "ymin": 6411266.735799998,
  "xmin": 1105020.2782000005,
  "ymax": 6412054.235799998,
  "xmax": 1106061.0782000006,
  "spatialReference": {
   "latestWkid": 3857,
   "wkid": 102100
  }
 },
 "blockWidth": 128,
 "mosaicOperator": "First",
 "serviceSourceType": "esriImageServiceSourceTypeDataset",
 "hasMultidimensions": false,
 "maxImageWidth": 15000,
 "tileInfo": {
  "lods": [
   {
    "level": 0,
    "scale": 9027.9774109999998,
    "resolution": 2.3886571339746849
   },
   {
    "level": 1,
    "scale": 4513.9887054999999,
    "resolution": 1.1943285669873425
   },
   {
    "level": 2,
    "scale": 2256.9943524999999,
    "resolution": 0.59716428342752514
   },
   {
    "level": 3,
    "scale": 1128.4971765,
    "resolution": 0.29858214177990861
   },
   {
    "level": 4,
    "scale": 564.24858800000004,
    "resolution": 0.14929107082380833
   },
   {
    "level": 5,
    "scale": 282.12429400000002,
    "resolution": 0.074645535411904163
   },
   {
    "level": 6,
    "scale": 141.06214700000001,
    "resolution": 0.037322767705952081
   },
   {
    "level": 7,
    "scale": 70.531073500000005,
    "resolution": 0.018661383852976041
   }
  ],
  "lercError": 0.050000000000000003,
  "origin": {
   "x": -20037700,
   "y": 30241100
  },
  "format": "LERC",
  "compressionQuality": 0,
  "rows": 256,
  "dpi": 96,
  "spatialReference": {
   "latestWkid": 3857,
   "wkid": 102100
  },
  "cols": 256
 },
 "meanValues": [
  174.32668812412999
 ],
 "hasColormap": false,
 "compressionType": "LZW",
 "defaultCompressionQuality": 75,
 "maxValues": [
  182.05842590332
 ],
 "hasHistograms": true,
 "datasetFormat": "TIFF",
 "maxImageHeight": 4100,
 "sortField": "",
 "bandNames": [
  "Band_1"
 ],
 "spatialReference": {
  "latestWkid": 3857,
  "wkid": 102100
 },
 "fullExtent": {
  "ymin": 6411266.735799998,
  "xmin": 1105020.2782000005,
  "ymax": 6412054.235799998,
  "xmax": 1106061.0782000006,
  "spatialReference": {
   "latestWkid": 3857,
   "wkid": 102100
  }
 },
 "bandCount": 1,
 "rasterFunctionInfos": [
  {
   "help": "",
   "name": "None",
   "description": ""
  }
 ],
 "supportsStatistics": false,
 "sortableFields": "",
 "minValues": [
  168.25180053711
 ],
 "allowRasterFunction": true,
 "allowComputeTiePoints": false,
 "serviceDataType": "esriImageServiceDataTypeGeneric",
 "supportsAdvancedQueries": false,
 "currentVersion": 12.1,
 "sortValue": null,
 "objectIdField": "",
 "maxLOD": 7,
 "blockHeight": 128,
 "initialExtent": {
  "ymin": 6411266.735799998,
  "xmin": 1105020.2782000005,
  "ymax": 6412054.235799998,
  "xmax": 1106061.0782000006,
  "spatialReference": {
   "latestWkid": 3857,
   "wkid": 102100
  }
 },
 "pixelSizeX": 0.10000000000000447,
 "pixelSizeY": 0.10000000000000001,
 "defaultMosaicMethod": "Center",
 "name": "Campus/Gelaende_Campus_RoeRi_EG",
 "allowedMosaicMethods": "",
 "fields": [],
 "allowAnalysis": true,
 "hasRasterAttributeTable": false,
 "useStandardizedQueries": false,
 "description": "",
 "pixelType": "F32",
 "meanPixelSize": 0.10000000000000224,
 "exportTilesAllowed": false,
 "editFieldsInfo": null,
 "rasterTypeInfos": [
  {
   "help": "",
   "name": "Raster Dataset",
   "description": "Supports all ArcGIS Raster Datasets"
  }
 ],
 "defaultResamplingMethod": "Bilinear",
 "itemAccess": false,
 "minScale": 9027.9774109999998,
 "cacheType": "Elevation",
 "serviceProperties": "Center<\/MosaicMethod>First<\/MosaicOperator>true<\/SortAscending><\/LockImageID><\/TileOrderField>0<\/TileOrderBase>0,000000<\/AvgImageSpacingX>0,000000<\/AvgImageSpacingY>0.0<\/ViewPointX>0.0<\/ViewPointY>0.0<\/ViewPointDefShiftX>0.0<\/ViewPointDefShiftY>None<\/CompressionMethod>75<\/CompressionQuality>0,100000<\/CompressionTolerance>Bilinear<\/SamplingMethod><\/ImageServiceProperties><\/ImageServer>",
 "advancedQueryCapabilities": {
  "supportsStatistics": false,
  "supportsSqlExpression": false,
  "supportsOrderBy": false,
  "useStandardizedQueries": false,
  "supportsPagination": false,
  "supportsDistinct": false
 },
 "serviceItemId": "12e7fb9d3f954fdfa942d5d2dbd3330e",
 "capabilities": "Image,Metadata,Mensuration",
 "maxScale": 70.531073500000005,
 "singleFusedMapCache": true,
 "stdvValues": [
  2.0215735664963002
 ],
 "allowedFields": "",
 "minPixelSize": 0.018661383852976044,
 "storageInfo": {
  "storageFormat": "esriMapCacheStorageModeCompactV2",
  "packetSize": 128
 },
 "noDataValues": [
  -3.4028234663852886E+38
 ],
 "sortAscending": true,
 "inspectionCapabilities": "",
 "minLOD": 0,
 "maxPixelSize": 2.3886571339746849,
 "noDataValue": -3.4028234663852886E+38,
 "allowedCompressions": "None,JPEG,LZ77,LERC",
 "uncompressedSize": 327852000,
 "serviceDescription": "Campus/Gelaende_Campus_RoeRi_EG",
 "allowCopy": true,
 "copyrightText": "",
 "mensurationCapabilities": "Basic",
 "ownershipBasedAccessControlForRasters": null
}
