{ "documentInfo": { "Category": "", "Keywords": "THWS,Technische Hochschule,Würzburg,Campus,Röntgenring", "Version": "3.5.0", "Comments": "Karte des Campus Röntgenring der Technischen Hochschule Würzburg-Schweinfurt (THWS).Die Karte wurde im Labor für Geoinformationssysteme im Studienbereich Geo erstellt. Sie dient als Grundkarte für das Campus-Informationssystem der Hochschule.", "AntialiasingMode": "Normal", "Title": "sde_Campus_RoeRi_Besemap_Detail", "Author": "", "TextAntialiasingMode": "None", "Subject": "Karte des Campus Röntgenring der Technischen Hochschule Würzburg-Schweinfurt (THWS)" }, "maxImageWidth": 4096, "wmtsScaleFactor": 0.00028000000000003521, "maxRecordCount": 2000, "tileInfo": { "lods": [ { "level": 0, "scale": 9027.9774109999998, "resolution": 2.3886571339746849 }, { "level": 1, "scale": 4513.9887054999999, "resolution": 1.1943285669873425 }, { "level": 2, "scale": 2256.9943524999999, "resolution": 0.59716428342752514 }, { "level": 3, "scale": 1128.4971765, "resolution": 0.29858214177990861 }, { "level": 4, "scale": 564.24858800000004, "resolution": 0.14929107082380833 }, { "level": 5, "scale": 282.12429400000002, "resolution": 0.074645535411904163 }, { "level": 6, "scale": 141.06214700000001, "resolution": 0.037322767705952081 }, { "level": 7, "scale": 70.531073500000005, "resolution": 0.018661383852976041 } ], "origin": { "x": -20037700, "y": 30241100 }, "format": "MIXED", "compressionQuality": 90, "rows": 256, "dpi": 96, "spatialReference": { "falseM": -100000, "xyTolerance": 0.001, "mUnits": 10000, "zUnits": 10000, "latestWkid": 3857, "zTolerance": 0.001, "wkid": 102100, "xyUnits": 10000, "mTolerance": 0.001, "falseX": -20037700, "falseY": -30241100, "falseZ": -100000 }, "cols": 256 }, "description": "Karte des Campus Röntgenring der Technischen Hochschule Würzburg-Schweinfurt (THWS).Die Karte wurde im Labor für Geoinformationssysteme im Studienbereich Geo erstellt. Sie dient als Grundkarte für das Campus-Informationssystem der Hochschule.", "datesInUnknownTimezone": false, "supportsQueryDomains": true, "units": "esriMeters", "maxSelectionCount": 2000, "supportedImageFormatTypes": "PNG32,PNG24,PNG,JPG,DIB,TIFF,EMF,PS,PDF,GIF,SVG,SVGZ,BMP", "supportsClipping": true, "exportTilesAllowed": false, "maxImageHeight": 4096, "tables": [], "hasVersionedData": false, "supportsDatumTransformation": true, "cimVersion": "3.7.0", "supportsQueryDataElements": true, "layers": [ { "subLayerIds": [ 5, 6, 7 ], "maxScale": 0, "name": "Vegetation", "defaultVisibility": true, "id": 4, "minScale": 0, "supportsDynamicLegends": false, "type": "Group Layer", "parentLayerId": -1 }, { "subLayerIds": [ 9, 10, 11 ], "maxScale": 0, "name": "Gebäude", "defaultVisibility": true, "id": 8, "minScale": 0, "supportsDynamicLegends": false, "type": "Group Layer", "parentLayerId": -1 } ], "mapName": "sde_Campus_RoeRi_Basemap_Detail", "minScale": 9027.9774109999998, "archivingInfo": {"supportsHistoricMoment": false}, "spatialReference": { "falseM": -100000, "xyTolerance": 0.001, "mUnits": 10000, "zUnits": 10000, "latestWkid": 3857, "zTolerance": 0.001, "wkid": 102100, "xyUnits": 10000, "mTolerance": 0.001, "falseX": -20037700, "falseY": -30241100, "falseZ": -100000 }, "tileImageInfo": { "bandCount": 1, "lercError": 0, "format": "MIXED", "compressionQuality": 90 }, "fullExtent": { "ymin": 6411480.9805999994, "xmin": 1105264.0522000007, "ymax": 6411831.7457000017, "xmax": 1105856.0513999984, "spatialReference": { "falseM": -100000, "xyTolerance": 0.001, "mUnits": 10000, "zUnits": 10000, "latestWkid": 3857, "zTolerance": 0.001, "wkid": 102100, "xyUnits": 10000, "mTolerance": 0.001, "falseX": -20037700, "falseY": -30241100, "falseZ": -100000 } }, "supportedExtensions": "", "serviceItemId": "1c65d2fb6240418cb7b4cc813b4a0da3", "capabilities": "Map,Query,Data,TileMap", "supportsDynamicLayers": true, "maxScale": 70.531073500000005, "singleFusedMapCache": true, "currentVersion": 12.1, "storageInfo": { "storageFormat": "esriMapCacheStorageModeCompactV2", "packetSize": 128 }, "resampling": false, "hasBranchVersionedData": false, "mapUnits": {"uwkid": 9001}, "referenceScale": 800, "floorAwareMapProperties": {"defaultFloorFilterSettings": {"isEnabled": true}}, "supportsSpatialFilter": true, "maxLOD": 7, "minLOD": 0, "supportedQueryFormats": "JSON, geoJSON, PBF", "initialExtent": { "ymin": 6411392.5225726338, "xmin": 1105219.0262675982, "ymax": 6411922.5205682954, "xmax": 1105893.7494017261, "spatialReference": { "falseM": -100000, "xyTolerance": 0.001, "mUnits": 10000, "zUnits": 10000, "latestWkid": 3857, "zTolerance": 0.001, "wkid": 102100, "xyUnits": 10000, "mTolerance": 0.001, "falseX": -20037700, "falseY": -30241100, "falseZ": -100000 } }, "serviceDescription": "
Karte des Campus Röntgenring der Technischen Hochschule Würzburg-Schweinfurt<\/span> (THWS).<\/span><\/p> <\/p> Die Karte wurde im Labor für Geoinformationssysteme im Studienbereich Geo erstellt. Sie dient als Grundkarte für das Campus-Informationssystem der Hochschule.<\/span><\/p><\/div><\/div><\/div>",
"copyrightText": "© THWS - GIS-Labor",
"supportsTimeRelation": true
}