{
 "extent": {
  "ymin": 5530376.1443000007,
  "xmin": 558766.42080000043,
  "ymax": 5530498.1090000011,
  "xmax": 558882.36030000041,
  "spatialReference": {
   "latestWkid": 32632,
   "wkid": 32632
  }
 },
 "blockWidth": 128,
 "mosaicOperator": "First",
 "serviceSourceType": "esriImageServiceSourceTypeDataset",
 "hasMultidimensions": false,
 "maxImageWidth": 15000,
 "meanValues": [
  115.16558077359696,
  77.109677998890916,
  136.77816642378565,
  117.6116101745306,
  123.59920479191916,
  127.09977087187681,
  150.34765122935758,
  134.72738770189216,
  133.42841175915714,
  161.22642681782546
 ],
 "hasColormap": false,
 "compressionType": "LZ77",
 "defaultCompressionQuality": 75,
 "maxValues": [
  255,
  255,
  255,
  255,
  254,
  255,
  255,
  254,
  251,
  239
 ],
 "hasHistograms": true,
 "datasetFormat": "FGDBR",
 "maxImageHeight": 4100,
 "sortField": "",
 "bandNames": [
  "Band_1",
  "Band_2",
  "Band_3",
  "Band_4",
  "Band_5",
  "Band_6",
  "Band_7",
  "Band_8",
  "Band_9",
  "Band_10"
 ],
 "spatialReference": {
  "latestWkid": 32632,
  "wkid": 32632
 },
 "fullExtent": {
  "ymin": 5530376.1443000007,
  "xmin": 558766.42080000043,
  "ymax": 5530498.1090000011,
  "xmax": 558882.36030000041,
  "spatialReference": {
   "latestWkid": 32632,
   "wkid": 32632
  }
 },
 "bandCount": 10,
 "rasterFunctionInfos": [
  {
   "help": "",
   "name": "None",
   "description": ""
  }
 ],
 "supportsStatistics": false,
 "sortableFields": "",
 "minValues": [
  1,
  0,
  11,
  9,
  8,
  14,
  5,
  4,
  8,
  35
 ],
 "allowRasterFunction": true,
 "allowComputeTiePoints": false,
 "serviceDataType": "esriImageServiceDataTypeGeneric",
 "supportsAdvancedQueries": false,
 "currentVersion": 12.1,
 "sortValue": null,
 "objectIdField": "",
 "blockHeight": 128,
 "initialExtent": {
  "ymin": 5530376.1443000007,
  "xmin": 558766.42080000043,
  "ymax": 5530498.1090000011,
  "xmax": 558882.36030000041,
  "spatialReference": {
   "latestWkid": 32632,
   "wkid": 32632
  }
 },
 "pixelSizeX": 0.0079497737246282622,
 "pixelSizeY": 0.0079497262417129837,
 "defaultMosaicMethod": "Center",
 "name": "ExtractBands_UAV_06_06__Clip",
 "allowedMosaicMethods": "",
 "fields": [],
 "allowAnalysis": true,
 "hasRasterAttributeTable": false,
 "useStandardizedQueries": false,
 "description": "",
 "pixelType": "U8",
 "meanPixelSize": 0.0079497499831706238,
 "exportTilesAllowed": false,
 "editFieldsInfo": null,
 "rasterTypeInfos": [
  {
   "help": "",
   "name": "Raster Dataset",
   "description": "Supports all ArcGIS Raster Datasets"
  }
 ],
 "defaultResamplingMethod": "Bilinear",
 "itemAccess": false,
 "minScale": 0,
 "serviceProperties": "Center<\/MosaicMethod>First<\/MosaicOperator>true<\/SortAscending><\/LockImageID><\/TileOrderField>0<\/TileOrderBase>0,000000<\/AvgImageSpacingX>0,000000<\/AvgImageSpacingY>0.0<\/ViewPointX>0.0<\/ViewPointY>0.0<\/ViewPointDefShiftX>0.0<\/ViewPointDefShiftY>None<\/CompressionMethod>75<\/CompressionQuality>0,010000<\/CompressionTolerance>Bilinear<\/SamplingMethod><\/ImageServiceProperties><\/ImageServer>",
 "advancedQueryCapabilities": {
  "supportsStatistics": false,
  "supportsSqlExpression": false,
  "supportsOrderBy": false,
  "useStandardizedQueries": false,
  "supportsPagination": false,
  "supportsDistinct": false
 },
 "serviceItemId": "0228180ca2b249e497287f92f86d5d07",
 "capabilities": "Image,Metadata,Mensuration",
 "maxScale": 0,
 "stdvValues": [
  39.944213757878849,
  39.727746086027814,
  40.097936547890086,
  31.707683070816703,
  33.498187286164864,
  34.402735394187026,
  45.921438699560888,
  40.402309159815339,
  28.70343408697558,
  26.151203505138593
 ],
 "allowedFields": "",
 "minPixelSize": 0,
 "sortAscending": true,
 "inspectionCapabilities": "",
 "maxPixelSize": 0,
 "allowedCompressions": "None,JPEG,LZ77,LERC",
 "uncompressedSize": 2237477280,
 "serviceDescription": "ExtractBands_UAV_06_06__Clip",
 "allowCopy": true,
 "copyrightText": "",
 "mensurationCapabilities": "Basic",
 "ownershipBasedAccessControlForRasters": null
}
