{ "documentInfo": { "Category": "", "Keywords": "Geobasisdaten,DOP,Digitale Orthophotos,Würzburg", "Version": "3.2.0", "Comments": "", "AntialiasingMode": "Normal", "Title": "DOP20", "Author": "", "TextAntialiasingMode": "Force", "Subject": "" }, "maxImageWidth": 4096, "wmtsScaleFactor": 0.00028000000000003521, "maxRecordCount": 2000, "tileInfo": { "lods": [ { "level": 0, "scale": 128000, "resolution": 33.866734400135471 }, { "level": 1, "scale": 64000, "resolution": 16.933367200067735 }, { "level": 2, "scale": 32000, "resolution": 8.4666836000338677 }, { "level": 3, "scale": 16000, "resolution": 4.2333418000169338 }, { "level": 4, "scale": 8000, "resolution": 2.1166709000084669 }, { "level": 5, "scale": 4000, "resolution": 1.0583354500042335 }, { "level": 6, "scale": 2000, "resolution": 0.52916772500211673 }, { "level": 7, "scale": 1000, "resolution": 0.26458386250105836 } ], "origin": { "x": -5120900, "y": 9998100 }, "format": "MIXED", "compressionQuality": 75, "rows": 256, "dpi": 96, "spatialReference": { "falseM": -100000, "xyTolerance": 0.001, "mUnits": 10000, "zUnits": 10000, "latestWkid": 25832, "zTolerance": 0.001, "wkid": 25832, "xyUnits": 450445547.3910538, "mTolerance": 0.001, "falseX": -5120900, "falseY": -9998100, "falseZ": -100000 }, "cols": 256 }, "description": "Digitale Orthophotos von Würzburg mit einer Bodenauflösung von 20 cmDer Kartendienst wird u. a. als WMS für die Lehrveranstaltung \"Webbasierte Geoinformationssysteme (BVG6) verwendet.", "datesInUnknownTimezone": false, "supportsQueryDomains": true, "units": "esriMeters", "maxSelectionCount": 2000, "supportedImageFormatTypes": "PNG32,PNG24,PNG,JPG,DIB,TIFF,EMF,PS,PDF,GIF,SVG,SVGZ,BMP", "supportsClipping": true, "exportTilesAllowed": false, "maxImageHeight": 4096, "tables": [], "hasVersionedData": false, "supportsDatumTransformation": true, "cimVersion": "3.7.0", "supportsQueryDataElements": true, "layers": [ { "subLayerIds": [ 1, 2, 3 ], "maxScale": 0, "name": "DOP20", "defaultVisibility": true, "id": 0, "minScale": 0, "supportsDynamicLegends": false, "type": "Mosaic Layer", "parentLayerId": -1 }, { "subLayerIds": null, "maxScale": 0, "name": "DOP20_Grenze", "defaultVisibility": false, "id": 1, "minScale": 0, "supportsDynamicLegends": true, "type": "Feature Layer", "parentLayerId": 0, "geometryType": "esriGeometryPolygon" }, { "subLayerIds": null, "maxScale": 0, "name": "DOP20_Footprint", "defaultVisibility": false, "id": 2, "minScale": 0, "supportsDynamicLegends": true, "type": "Feature Layer", "parentLayerId": 0, "geometryType": "esriGeometryPolygon" }, { "subLayerIds": null, "maxScale": 0, "name": "DOP20_Bild", "defaultVisibility": true, "id": 3, "minScale": 0, "supportsDynamicLegends": true, "type": "Raster Layer", "parentLayerId": 0 } ], "mapName": "DOP20", "minScale": 128000, "archivingInfo": {"supportsHistoricMoment": false}, "spatialReference": { "falseM": -100000, "xyTolerance": 0.001, "mUnits": 10000, "zUnits": 10000, "latestWkid": 25832, "zTolerance": 0.001, "wkid": 25832, "xyUnits": 10000, "mTolerance": 0.001, "falseX": -5120900, "falseY": -9998100, "falseZ": -100000 }, "tileImageInfo": { "bandCount": 1, "lercError": 0, "format": "MIXED", "compressionQuality": 75 }, "fullExtent": { "ymin": 5504000, "xmin": 560000, "ymax": 5526000, "xmax": 576000, "spatialReference": { "falseM": -100000, "xyTolerance": 0.001, "mUnits": 10000, "zUnits": 10000, "latestWkid": 25832, "zTolerance": 0.001, "wkid": 25832, "xyUnits": 10000, "mTolerance": 0.001, "falseX": -5120900, "falseY": -9998100, "falseZ": -100000 } }, "supportedExtensions": "WMSServer", "serviceItemId": "a3ae54d9753c4f64a8a9b805b7d47460", "capabilities": "Query,Map,Data,TileMap", "supportsDynamicLayers": true, "maxScale": 1000, "singleFusedMapCache": true, "currentVersion": 12.1, "storageInfo": { "storageFormat": "esriMapCacheStorageModeCompactV2", "packetSize": 128 }, "hasBranchVersionedData": false, "mapUnits": {"uwkid": 9001}, "referenceScale": 0, "floorAwareMapProperties": {"defaultFloorFilterSettings": {"isEnabled": false}}, "supportsSpatialFilter": true, "maxLOD": 7, "minLOD": 0, "supportedQueryFormats": "JSON, geoJSON, PBF", "datumTransformations": [ {"geoTransforms": [{ "latestWkid": 1149, "transformForward": false, "wkid": 1149, "name": "ETRS_1989_To_WGS_1984" }]}, {"geoTransforms": [{ "latestWkid": 1149, "transformForward": true, "wkid": 1149, "name": "ETRS_1989_To_WGS_1984" }]} ], "initialExtent": { "ymin": 5505237.6196512422, "xmin": 555528.16624504398, "ymax": 5523937.6196512422, "xmax": 580934.53099412611, "spatialReference": { "falseM": -100000, "xyTolerance": 0.001, "mUnits": 10000, "zUnits": 10000, "latestWkid": 25832, "zTolerance": 0.001, "wkid": 25832, "xyUnits": 10000, "mTolerance": 0.001, "falseX": -5120900, "falseY": -9998100, "falseZ": -100000 } }, "serviceDescription": "
Digitale Orthophotos von Würzburg mit einer Bodenauflösung von 20 cm<\/SPAN><\/P> Der Kartendienst wird u. a. als WMS für die Lehrveranstaltung \"Webbasierte Geoinformationssysteme (BVG6) verwendet.<\/SPAN><\/P><\/DIV><\/DIV><\/DIV>",
"copyrightText": "Geobasisdaten © Bayer. Vermessungsverwaltung",
"supportsTimeRelation": true
}