{
 "documentInfo": {
  "Category": "",
  "Keywords": "OpenStreetMap,OSM,Würzburg",
  "Version": "3.4.0",
  "Comments": "Daten des OpenStreetMap-Projektes, angezeigt mit Darstellungsvorgaben des Labors für Geoinformationssysteme an der Hochschule für angewandte Wissenschaften Würzburg-Schweinfurt, Studienbereich Geo.",
  "AntialiasingMode": "Normal",
  "Title": "OSM_FHWS_grey",
  "Author": "",
  "TextAntialiasingMode": "None",
  "Subject": "OpenStreetMap-Daten, angezeigt mit Darstellungsvorgaben des GIS-Labors an der Hochschule Würzburg-Schweinfurt"
 },
 "maxImageWidth": 4096,
 "wmtsScaleFactor": 0.00028000000000003521,
 "maxRecordCount": 2000,
 "tileInfo": {
  "lods": [
   {
    "level": 0,
    "scale": 577790.55428899999,
    "resolution": 152.87405657041106
   },
   {
    "level": 1,
    "scale": 288895.27714399999,
    "resolution": 76.437028285073239
   },
   {
    "level": 2,
    "scale": 144447.638572,
    "resolution": 38.21851414253662
   },
   {
    "level": 3,
    "scale": 72223.819285999998,
    "resolution": 19.10925707126831
   },
   {
    "level": 4,
    "scale": 36111.909642999999,
    "resolution": 9.5546285356341549
   },
   {
    "level": 5,
    "scale": 18055.954822,
    "resolution": 4.7773142679493699
   },
   {
    "level": 6,
    "scale": 9027.9774109999998,
    "resolution": 2.3886571339746849
   },
   {
    "level": 7,
    "scale": 4513.9887049999998,
    "resolution": 1.1943285668550503
   },
   {
    "level": 8,
    "scale": 2256.994353,
    "resolution": 0.59716428355981721
   }
  ],
  "origin": {
   "x": -20037700,
   "y": 30241100
  },
  "format": "MIXED",
  "compressionQuality": 85,
  "rows": 256,
  "dpi": 96,
  "spatialReference": {
   "falseM": -100000,
   "xyTolerance": 0.001,
   "mUnits": 10000,
   "zUnits": 10000,
   "latestWkid": 3857,
   "zTolerance": 0.001,
   "wkid": 102100,
   "xyUnits": 10000,
   "mTolerance": 0.001,
   "falseX": -20037700,
   "falseY": -30241100,
   "falseZ": -100000
  },
  "cols": 256
 },
 "description": "Daten des OpenStreetMap-Projektes, angezeigt mit Darstellungsvorgaben des Labors für Geoinformationssysteme an der Technischen Hochschule Würzburg-Schweinfurt (THWS), Studienbereich Geo.",
 "datesInUnknownTimezone": false,
 "supportsQueryDomains": true,
 "units": "esriMeters",
 "maxSelectionCount": 2000,
 "supportedImageFormatTypes": "PNG32,PNG24,PNG,JPG,DIB,TIFF,EMF,PS,PDF,GIF,SVG,SVGZ,BMP",
 "supportsClipping": true,
 "exportTilesAllowed": false,
 "maxImageHeight": 4096,
 "tables": [],
 "hasVersionedData": false,
 "supportsDatumTransformation": true,
 "cimVersion": "3.7.0",
 "supportsQueryDataElements": true,
 "layers": [
  {
   "subLayerIds": [
    1,
    2,
    3,
    4
   ],
   "maxScale": 0,
   "name": "poi",
   "defaultVisibility": true,
   "id": 0,
   "minScale": 0,
   "supportsDynamicLegends": false,
   "type": "Group Layer",
   "parentLayerId": -1
  },
  {
   "subLayerIds": null,
   "maxScale": 0,
   "name": "osm_point_transport_trainstation",
   "defaultVisibility": true,
   "id": 1,
   "minScale": 18055.954822,
   "supportsDynamicLegends": true,
   "type": "Feature Layer",
   "parentLayerId": 0,
   "geometryType": "esriGeometryPoint"
  },
  {
   "subLayerIds": null,
   "maxScale": 0,
   "name": "osm_polygon_pofw_centroid",
   "defaultVisibility": true,
   "id": 2,
   "minScale": 9027.9774109999998,
   "supportsDynamicLegends": true,
   "type": "Feature Layer",
   "parentLayerId": 0,
   "geometryType": "esriGeometryPoint"
  },
  {
   "subLayerIds": null,
   "maxScale": 0,
   "name": "osm_point_pofw",
   "defaultVisibility": true,
   "id": 3,
   "minScale": 9027.9774109999998,
   "supportsDynamicLegends": true,
   "type": "Feature Layer",
   "parentLayerId": 0,
   "geometryType": "esriGeometryPoint"
  },
  {
   "subLayerIds": null,
   "maxScale": 0,
   "name": "osm_point_transport",
   "defaultVisibility": true,
   "id": 4,
   "minScale": 9027.9774109999998,
   "supportsDynamicLegends": true,
   "type": "Feature Layer",
   "parentLayerId": 0,
   "geometryType": "esriGeometryPoint"
  },
  {
   "subLayerIds": null,
   "maxScale": 0,
   "name": "osm_line_highway_oneway",
   "defaultVisibility": true,
   "id": 5,
   "minScale": 4513.9887049999998,
   "supportsDynamicLegends": true,
   "type": "Feature Layer",
   "parentLayerId": -1,
   "geometryType": "esriGeometryPolyline"
  },
  {
   "subLayerIds": [
    7,
    8,
    9,
    10,
    11,
    12
   ],
   "maxScale": 0,
   "name": "osm_point_place",
   "defaultVisibility": true,
   "id": 6,
   "minScale": 0,
   "supportsDynamicLegends": false,
   "type": "Group Layer",
   "parentLayerId": -1
  },
  {
   "subLayerIds": null,
   "maxScale": 0,
   "name": "city",
   "defaultVisibility": true,
   "id": 7,
   "minScale": 4622324.4343090001,
   "supportsDynamicLegends": true,
   "type": "Feature Layer",
   "parentLayerId": 6,
   "geometryType": "esriGeometryPoint"
  },
  {
   "subLayerIds": null,
   "maxScale": 0,
   "name": "town",
   "defaultVisibility": true,
   "id": 8,
   "minScale": 1155581.108577,
   "supportsDynamicLegends": true,
   "type": "Feature Layer",
   "parentLayerId": 6,
   "geometryType": "esriGeometryPoint"
  },
  {
   "subLayerIds": null,
   "maxScale": 0,
   "name": "village",
   "defaultVisibility": true,
   "id": 9,
   "minScale": 288895.27714399999,
   "supportsDynamicLegends": true,
   "type": "Feature Layer",
   "parentLayerId": 6,
   "geometryType": "esriGeometryPoint"
  },
  {
   "subLayerIds": null,
   "maxScale": 0,
   "name": "suburb",
   "defaultVisibility": true,
   "id": 10,
   "minScale": 144447.638572,
   "supportsDynamicLegends": true,
   "type": "Feature Layer",
   "parentLayerId": 6,
   "geometryType": "esriGeometryPoint"
  },
  {
   "subLayerIds": null,
   "maxScale": 0,
   "name": "hamlet_isolateddwelling",
   "defaultVisibility": true,
   "id": 11,
   "minScale": 36111.909642999999,
   "supportsDynamicLegends": true,
   "type": "Feature Layer",
   "parentLayerId": 6,
   "geometryType": "esriGeometryPoint"
  },
  {
   "subLayerIds": null,
   "maxScale": 0,
   "name": "farm",
   "defaultVisibility": true,
   "id": 12,
   "minScale": 9027.9774109999998,
   "supportsDynamicLegends": true,
   "type": "Feature Layer",
   "parentLayerId": 6,
   "geometryType": "esriGeometryPoint"
  },
  {
   "subLayerIds": [
    14,
    15,
    16
   ],
   "maxScale": 0,
   "name": "aeroway",
   "defaultVisibility": true,
   "id": 13,
   "minScale": 0,
   "supportsDynamicLegends": false,
   "type": "Group Layer",
   "parentLayerId": -1
  },
  {
   "subLayerIds": null,
   "maxScale": 0,
   "name": "osm_polygon_aeroway_aerodrome",
   "defaultVisibility": true,
   "id": 14,
   "minScale": 577790.55428899999,
   "supportsDynamicLegends": true,
   "type": "Feature Layer",
   "parentLayerId": 13,
   "geometryType": "esriGeometryPolygon"
  },
  {
   "subLayerIds": null,
   "maxScale": 0,
   "name": "osm_polygon_aeroway",
   "defaultVisibility": true,
   "id": 15,
   "minScale": 72223.819285999998,
   "supportsDynamicLegends": true,
   "type": "Feature Layer",
   "parentLayerId": 13,
   "geometryType": "esriGeometryPolygon"
  },
  {
   "subLayerIds": null,
   "maxScale": 0,
   "name": "osm_line_aeroway",
   "defaultVisibility": true,
   "id": 16,
   "minScale": 72223.819285999998,
   "supportsDynamicLegends": true,
   "type": "Feature Layer",
   "parentLayerId": 13,
   "geometryType": "esriGeometryPolyline"
  },
  {
   "subLayerIds": [
    18,
    19,
    23,
    30
   ],
   "maxScale": 0,
   "name": "traffic",
   "defaultVisibility": true,
   "id": 17,
   "minScale": 0,
   "supportsDynamicLegends": false,
   "type": "Group Layer",
   "parentLayerId": -1
  },
  {
   "subLayerIds": null,
   "maxScale": 0,
   "name": "osm_line_route_ferry",
   "defaultVisibility": true,
   "id": 18,
   "minScale": 18055.954822,
   "supportsDynamicLegends": true,
   "type": "Feature Layer",
   "parentLayerId": 17,
   "geometryType": "esriGeometryPolyline"
  },
  {
   "subLayerIds": [
    20,
    21,
    22
   ],
   "maxScale": 0,
   "name": "bridge",
   "defaultVisibility": true,
   "id": 19,
   "minScale": 0,
   "supportsDynamicLegends": false,
   "type": "Group Layer",
   "parentLayerId": 17
  },
  {
   "subLayerIds": null,
   "maxScale": 0,
   "name": "osm_line_railway",
   "defaultVisibility": true,
   "id": 20,
   "minScale": 577790.55428899999,
   "supportsDynamicLegends": true,
   "type": "Feature Layer",
   "parentLayerId": 19,
   "geometryType": "esriGeometryPolyline"
  },
  {
   "subLayerIds": null,
   "maxScale": 0,
   "name": "osm_line_highway",
   "defaultVisibility": true,
   "id": 21,
   "minScale": 4622324.4343090001,
   "supportsDynamicLegends": true,
   "type": "Feature Layer",
   "parentLayerId": 19,
   "geometryType": "esriGeometryPolyline"
  },
  {
   "subLayerIds": null,
   "maxScale": 0,
   "name": "osm_line_highway_grey",
   "defaultVisibility": true,
   "id": 22,
   "minScale": 288895.27714399999,
   "supportsDynamicLegends": true,
   "type": "Feature Layer",
   "parentLayerId": 19,
   "geometryType": "esriGeometryPolyline"
  },
  {
   "subLayerIds": [
    24,
    25,
    26,
    27,
    28,
    29
   ],
   "maxScale": 0,
   "name": "Normalniveau",
   "defaultVisibility": true,
   "id": 23,
   "minScale": 0,
   "supportsDynamicLegends": false,
   "type": "Group Layer",
   "parentLayerId": 17
  },
  {
   "subLayerIds": null,
   "maxScale": 0,
   "name": "line_railway_tram",
   "defaultVisibility": true,
   "id": 24,
   "minScale": 18055.954822,
   "supportsDynamicLegends": true,
   "type": "Feature Layer",
   "parentLayerId": 23,
   "geometryType": "esriGeometryPolyline"
  },
  {
   "subLayerIds": null,
   "maxScale": 0,
   "name": "osm_polygon_highway",
   "defaultVisibility": true,
   "id": 25,
   "minScale": 36111.909642999999,
   "supportsDynamicLegends": true,
   "type": "Feature Layer",
   "parentLayerId": 23,
   "geometryType": "esriGeometryPolygon"
  },
  {
   "subLayerIds": null,
   "maxScale": 0,
   "name": "osm_line_highway",
   "defaultVisibility": true,
   "id": 26,
   "minScale": 4622324.4343090001,
   "supportsDynamicLegends": true,
   "type": "Feature Layer",
   "parentLayerId": 23,
   "geometryType": "esriGeometryPolyline"
  },
  {
   "subLayerIds": null,
   "maxScale": 0,
   "name": "osm_line_highway_grey",
   "defaultVisibility": true,
   "id": 27,
   "minScale": 288895.27714399999,
   "supportsDynamicLegends": true,
   "type": "Feature Layer",
   "parentLayerId": 23,
   "geometryType": "esriGeometryPolyline"
  },
  {
   "subLayerIds": null,
   "maxScale": 0,
   "name": "osm_polygon_highway_grey",
   "defaultVisibility": true,
   "id": 28,
   "minScale": 36111.909642999999,
   "supportsDynamicLegends": true,
   "type": "Feature Layer",
   "parentLayerId": 23,
   "geometryType": "esriGeometryPolygon"
  },
  {
   "subLayerIds": null,
   "maxScale": 0,
   "name": "osm_line_railway",
   "defaultVisibility": true,
   "id": 29,
   "minScale": 577790.55428899999,
   "supportsDynamicLegends": true,
   "type": "Feature Layer",
   "parentLayerId": 23,
   "geometryType": "esriGeometryPolyline"
  },
  {
   "subLayerIds": [
    31,
    32,
    33
   ],
   "maxScale": 0,
   "name": "tunnel",
   "defaultVisibility": true,
   "id": 30,
   "minScale": 0,
   "supportsDynamicLegends": false,
   "type": "Group Layer",
   "parentLayerId": 17
  },
  {
   "subLayerIds": null,
   "maxScale": 0,
   "name": "osm_line_highway",
   "defaultVisibility": true,
   "id": 31,
   "minScale": 4622324.4343090001,
   "supportsDynamicLegends": true,
   "type": "Feature Layer",
   "parentLayerId": 30,
   "geometryType": "esriGeometryPolyline"
  },
  {
   "subLayerIds": null,
   "maxScale": 0,
   "name": "osm_line_highway_grey",
   "defaultVisibility": true,
   "id": 32,
   "minScale": 288895.27714399999,
   "supportsDynamicLegends": true,
   "type": "Feature Layer",
   "parentLayerId": 30,
   "geometryType": "esriGeometryPolyline"
  },
  {
   "subLayerIds": null,
   "maxScale": 0,
   "name": "osm_line_railway",
   "defaultVisibility": true,
   "id": 33,
   "minScale": 577790.55428899999,
   "supportsDynamicLegends": true,
   "type": "Feature Layer",
   "parentLayerId": 30,
   "geometryType": "esriGeometryPolyline"
  },
  {
   "subLayerIds": [
    35,
    36,
    37
   ],
   "maxScale": 0,
   "name": "osm_line_barrier",
   "defaultVisibility": true,
   "id": 34,
   "minScale": 0,
   "supportsDynamicLegends": false,
   "type": "Group Layer",
   "parentLayerId": -1
  },
  {
   "subLayerIds": null,
   "maxScale": 0,
   "name": "fence",
   "defaultVisibility": true,
   "id": 35,
   "minScale": 4513.9887049999998,
   "supportsDynamicLegends": true,
   "type": "Feature Layer",
   "parentLayerId": 34,
   "geometryType": "esriGeometryPolyline"
  },
  {
   "subLayerIds": null,
   "maxScale": 0,
   "name": "wall",
   "defaultVisibility": true,
   "id": 36,
   "minScale": 9027.9774109999998,
   "supportsDynamicLegends": true,
   "type": "Feature Layer",
   "parentLayerId": 34,
   "geometryType": "esriGeometryPolyline"
  },
  {
   "subLayerIds": null,
   "maxScale": 0,
   "name": "osm_line_cliff",
   "defaultVisibility": true,
   "id": 37,
   "minScale": 9027.9774109999998,
   "supportsDynamicLegends": true,
   "type": "Feature Layer",
   "parentLayerId": 34,
   "geometryType": "esriGeometryPolyline"
  },
  {
   "subLayerIds": null,
   "maxScale": 0,
   "name": "osm_polygon_tourism_building",
   "defaultVisibility": true,
   "id": 38,
   "minScale": 18055.954822,
   "supportsDynamicLegends": true,
   "type": "Feature Layer",
   "parentLayerId": -1,
   "geometryType": "esriGeometryPolygon"
  },
  {
   "subLayerIds": null,
   "maxScale": 0,
   "name": "osm_polygon_buildings",
   "defaultVisibility": true,
   "id": 39,
   "minScale": 18055.954822,
   "supportsDynamicLegends": true,
   "type": "Feature Layer",
   "parentLayerId": -1,
   "geometryType": "esriGeometryPolygon"
  },
  {
   "subLayerIds": [
    41,
    42
   ],
   "maxScale": 0,
   "name": "osm_polygon_boundary",
   "defaultVisibility": true,
   "id": 40,
   "minScale": 0,
   "supportsDynamicLegends": false,
   "type": "Group Layer",
   "parentLayerId": -1
  },
  {
   "subLayerIds": null,
   "maxScale": 0,
   "name": "national_park",
   "defaultVisibility": true,
   "id": 41,
   "minScale": 1155581.108577,
   "supportsDynamicLegends": true,
   "type": "Feature Layer",
   "parentLayerId": 40,
   "geometryType": "esriGeometryPolygon"
  },
  {
   "subLayerIds": null,
   "maxScale": 0,
   "name": "administrative",
   "defaultVisibility": true,
   "id": 42,
   "minScale": 0,
   "supportsDynamicLegends": true,
   "type": "Feature Layer",
   "parentLayerId": 40,
   "geometryType": "esriGeometryPolygon"
  },
  {
   "subLayerIds": null,
   "maxScale": 0,
   "name": "osm_line_waterways",
   "defaultVisibility": true,
   "id": 43,
   "minScale": 0,
   "supportsDynamicLegends": true,
   "type": "Feature Layer",
   "parentLayerId": -1,
   "geometryType": "esriGeometryPolyline"
  },
  {
   "subLayerIds": [
    45,
    46,
    47
   ],
   "maxScale": 0,
   "name": "osm_polygon_water",
   "defaultVisibility": true,
   "id": 44,
   "minScale": 0,
   "supportsDynamicLegends": false,
   "type": "Group Layer",
   "parentLayerId": -1
  },
  {
   "subLayerIds": null,
   "maxScale": 0,
   "name": "riverbank, stream",
   "defaultVisibility": true,
   "id": 45,
   "minScale": 2311162.2171550002,
   "supportsDynamicLegends": true,
   "type": "Feature Layer",
   "parentLayerId": 44,
   "geometryType": "esriGeometryPolygon"
  },
  {
   "subLayerIds": null,
   "maxScale": 0,
   "name": "reservoir",
   "defaultVisibility": true,
   "id": 46,
   "minScale": 144447.638572,
   "supportsDynamicLegends": true,
   "type": "Feature Layer",
   "parentLayerId": 44,
   "geometryType": "esriGeometryPolygon"
  },
  {
   "subLayerIds": null,
   "maxScale": 0,
   "name": "osm_polygon_water",
   "defaultVisibility": true,
   "id": 47,
   "minScale": 1155581.108577,
   "supportsDynamicLegends": true,
   "type": "Feature Layer",
   "parentLayerId": 44,
   "geometryType": "esriGeometryPolygon"
  },
  {
   "subLayerIds": null,
   "maxScale": 0,
   "name": "SRTM1_Hillshade.tif",
   "defaultVisibility": true,
   "id": 48,
   "minScale": 0,
   "supportsDynamicLegends": true,
   "type": "Raster Layer",
   "parentLayerId": -1
  },
  {
   "subLayerIds": [
    50,
    51
   ],
   "maxScale": 0,
   "name": "tourism",
   "defaultVisibility": false,
   "id": 49,
   "minScale": 0,
   "supportsDynamicLegends": false,
   "type": "Group Layer",
   "parentLayerId": -1
  },
  {
   "subLayerIds": null,
   "maxScale": 0,
   "name": "osm_point_tourism",
   "defaultVisibility": true,
   "id": 50,
   "minScale": 18055.954822,
   "supportsDynamicLegends": true,
   "type": "Feature Layer",
   "parentLayerId": 49,
   "geometryType": "esriGeometryPoint"
  },
  {
   "subLayerIds": null,
   "maxScale": 0,
   "name": "osm_polygon_tourism",
   "defaultVisibility": true,
   "id": 51,
   "minScale": 577790.55428899999,
   "supportsDynamicLegends": true,
   "type": "Feature Layer",
   "parentLayerId": 49,
   "geometryType": "esriGeometryPolygon"
  },
  {
   "subLayerIds": [
    53,
    54,
    55,
    56
   ],
   "maxScale": 0,
   "name": "osm_polygon_landuse",
   "defaultVisibility": true,
   "id": 52,
   "minScale": 0,
   "supportsDynamicLegends": false,
   "type": "Group Layer",
   "parentLayerId": -1
  },
  {
   "subLayerIds": null,
   "maxScale": 0,
   "name": "osm_polygon_landuse",
   "defaultVisibility": true,
   "id": 53,
   "minScale": 0,
   "supportsDynamicLegends": true,
   "type": "Feature Layer",
   "parentLayerId": 52,
   "geometryType": "esriGeometryPolygon"
  },
  {
   "subLayerIds": null,
   "maxScale": 0,
   "name": "forest",
   "defaultVisibility": true,
   "id": 54,
   "minScale": 9244648.8686180003,
   "supportsDynamicLegends": true,
   "type": "Feature Layer",
   "parentLayerId": 52,
   "geometryType": "esriGeometryPolygon"
  },
  {
   "subLayerIds": null,
   "maxScale": 0,
   "name": "park, nature_reserve, green, greenfield, landfill, village_greenosm_welt.public.osm_polygon_landuse",
   "defaultVisibility": true,
   "id": 55,
   "minScale": 1155581.108577,
   "supportsDynamicLegends": true,
   "type": "Feature Layer",
   "parentLayerId": 52,
   "geometryType": "esriGeometryPolygon"
  },
  {
   "subLayerIds": null,
   "maxScale": 0,
   "name": "allotments, recreation_ground",
   "defaultVisibility": true,
   "id": 56,
   "minScale": 577790.55428899999,
   "supportsDynamicLegends": true,
   "type": "Feature Layer",
   "parentLayerId": 52,
   "geometryType": "esriGeometryPolygon"
  }
 ],
 "mapName": "OSM_THWS_grey",
 "minScale": 577790.55428899999,
 "archivingInfo": {
  "supportsHistoricMoment": false
 },
 "spatialReference": {
  "falseM": -100000,
  "xyTolerance": 0.001,
  "mUnits": 10000,
  "zUnits": 10000,
  "latestWkid": 3857,
  "zTolerance": 0.001,
  "wkid": 102100,
  "xyUnits": 10000,
  "mTolerance": 0.001,
  "falseX": -20037700,
  "falseY": -30241100,
  "falseZ": -100000
 },
 "tileImageInfo": {
  "bandCount": 1,
  "lercError": 0,
  "format": "MIXED",
  "compressionQuality": 85
 },
 "fullExtent": {
  "ymin": 6308794.6122878864,
  "xmin": 998520.37137526693,
  "ymax": 6550865.4005334079,
  "xmax": 1269057.6560836989,
  "spatialReference": {
   "falseM": -100000,
   "xyTolerance": 0.001,
   "mUnits": 10000,
   "zUnits": 10000,
   "latestWkid": 3857,
   "zTolerance": 0.001,
   "wkid": 102100,
   "xyUnits": 10000,
   "mTolerance": 0.001,
   "falseX": -20037700,
   "falseY": -30241100,
   "falseZ": -100000
  }
 },
 "supportedExtensions": "",
 "serviceItemId": "f1012eb2ad61469295011f027197b6ab",
 "capabilities": "Map,Query,Data,TileMap",
 "supportsDynamicLayers": true,
 "maxScale": 2256.994353,
 "singleFusedMapCache": true,
 "currentVersion": 12.1,
 "storageInfo": {
  "storageFormat": "esriMapCacheStorageModeCompactV2",
  "packetSize": 128
 },
 "resampling": false,
 "hasBranchVersionedData": false,
 "mapUnits": {
  "uwkid": 9001
 },
 "referenceScale": 0,
 "supportsSpatialFilter": true,
 "maxLOD": 8,
 "minLOD": 0,
 "supportedQueryFormats": "JSON, geoJSON, PBF",
 "initialExtent": {
  "ymin": 6400784.5396571103,
  "xmin": 1095720.5984755072,
  "ymax": 6416626.1137691922,
  "xmax": 1116697.844993002,
  "spatialReference": {
   "falseM": -100000,
   "xyTolerance": 0.001,
   "mUnits": 10000,
   "zUnits": 10000,
   "latestWkid": 3857,
   "zTolerance": 0.001,
   "wkid": 102100,
   "xyUnits": 10000,
   "mTolerance": 0.001,
   "falseX": -20037700,
   "falseY": -30241100,
   "falseZ": -100000
  }
 },
 "serviceDescription": " Daten des OpenStreetMap-Projektes, angezeigt mit Darstellungsvorgaben des Labors für Geoinformationssysteme an der <\/span>Technischen <\/span>Hochschule Würzburg-Schweinfurt<\/span> (THWS)<\/span>, Studie<\/span>nbereich Geo<\/span>.<\/span><\/p><\/div><\/div><\/div>",
 "copyrightText": "© OpenStreetMap-Mitwirkende<\/a>",
 "supportsTimeRelation": true
}
