{ "documentInfo": { "Category": "", "Keywords": "OpenStreetMap,OSM,Würzburg", "Version": "3.6.0", "Comments": "Daten des OpenStreetMap-Projektes, angezeigt mit Darstellungsvorgaben des Labors für Geoinformationssysteme an der Technischen Hochschule Würzburg-Schweinfurt (THWS), Studienbereich Geo.Für die Kartengestaltung wurde bei einigen Layern auf die Esri-Style-Vorlage \"WaterWorld\" (https://esri-styles.maps.arcgis.com/home/item.html?id=84ac88d559664351a4652714ea40cd71) zurückgegriffen.", "AntialiasingMode": "Fast", "Title": "OSM_Wuerzburg_Hist", "Author": "", "TextAntialiasingMode": "Force", "Subject": "OpenStreetMap-Daten, angezeigt mit Darstellungsvorgaben des GIS-Labors an der Technischen Hochschule Würzburg-Schweinfurt (THWS)" }, "maxImageWidth": 4096, "wmtsScaleFactor": 0.00028000000000003521, "maxRecordCount": 2000, "tileInfo": { "lods": [ { "level": 0, "scale": 288895.27714399999, "resolution": 76.437028285073239 }, { "level": 1, "scale": 144447.638572, "resolution": 38.21851414253662 }, { "level": 2, "scale": 72223.819285999998, "resolution": 19.10925707126831 }, { "level": 3, "scale": 36111.909642999999, "resolution": 9.5546285356341549 }, { "level": 4, "scale": 18055.954822, "resolution": 4.7773142679493699 }, { "level": 5, "scale": 9027.9774109999998, "resolution": 2.3886571339746849 }, { "level": 6, "scale": 4513.9887049999998, "resolution": 1.1943285668550503 }, { "level": 7, "scale": 2256.994353, "resolution": 0.59716428355981721 } ], "origin": { "x": -20037700, "y": 30241100 }, "format": "MIXED", "compressionQuality": 80, "rows": 256, "dpi": 96, "spatialReference": { "falseM": -100000, "xyTolerance": 0.001, "mUnits": 10000, "zUnits": 10000, "latestWkid": 3857, "zTolerance": 0.001, "wkid": 102100, "xyUnits": 10000, "mTolerance": 0.001, "falseX": -20037700, "falseY": -30241100, "falseZ": -100000 }, "cols": 256 }, "description": "Daten des OpenStreetMap-Projektes, angezeigt mit Darstellungsvorgaben des Labors für Geoinformationssysteme an der Technischen Hochschule Würzburg-Schweinfurt (THWS), Studienbereich Geo.Für die Kartengestaltung wurde bei einigen Layern auf die Esri-Style-Vorlage \"WaterWorld\" (https://esri-styles.maps.arcgis.com/home/item.html?id=84ac88d559664351a4652714ea40cd71) zurückgegriffen.", "datesInUnknownTimezone": false, "supportsQueryDomains": true, "units": "esriMeters", "maxSelectionCount": 2000, "supportedImageFormatTypes": "PNG32,PNG24,PNG,JPG,DIB,TIFF,EMF,PS,PDF,GIF,SVG,SVGZ,BMP", "supportsClipping": true, "exportTilesAllowed": false, "maxImageHeight": 4096, "tables": [], "hasVersionedData": false, "supportsDatumTransformation": true, "cimVersion": "3.7.0", "supportsQueryDataElements": true, "layers": [ { "subLayerIds": null, "maxScale": 0, "name": "Maske Würzburg", "defaultVisibility": true, "id": 0, "minScale": 0, "supportsDynamicLegends": true, "type": "Feature Layer", "parentLayerId": -1, "geometryType": "esriGeometryPolygon" }, { "subLayerIds": null, "maxScale": 0, "name": "osm_line_highway_oneway", "defaultVisibility": true, "id": 6, "minScale": 4513.9887049999998, "supportsDynamicLegends": true, "type": "Feature Layer", "parentLayerId": -1, "geometryType": "esriGeometryPolyline" }, { "subLayerIds": [ 8, 9, 10, 11, 12, 13 ], "maxScale": 0, "name": "osm_point_place", "defaultVisibility": true, "id": 7, "minScale": 0, "supportsDynamicLegends": false, "type": "Group Layer", "parentLayerId": -1 }, { "subLayerIds": null, "maxScale": 0, "name": "city", "defaultVisibility": true, "id": 8, "minScale": 4622324.4343090001, "supportsDynamicLegends": true, "type": "Feature Layer", "parentLayerId": 7, "geometryType": "esriGeometryPoint" }, { "subLayerIds": null, "maxScale": 0, "name": "town", "defaultVisibility": true, "id": 9, "minScale": 36111.909642999999, "supportsDynamicLegends": true, "type": "Feature Layer", "parentLayerId": 7, "geometryType": "esriGeometryPoint" }, { "subLayerIds": null, "maxScale": 0, "name": "village", "defaultVisibility": true, "id": 10, "minScale": 36111.909642999999, "supportsDynamicLegends": true, "type": "Feature Layer", "parentLayerId": 7, "geometryType": "esriGeometryPoint" }, { "subLayerIds": null, "maxScale": 0, "name": "suburb", "defaultVisibility": false, "id": 11, "minScale": 36111.909642999999, "supportsDynamicLegends": true, "type": "Feature Layer", "parentLayerId": 7, "geometryType": "esriGeometryPoint" }, { "subLayerIds": null, "maxScale": 0, "name": "hamlet_isolateddwelling", "defaultVisibility": false, "id": 12, "minScale": 36111.909642999999, "supportsDynamicLegends": true, "type": "Feature Layer", "parentLayerId": 7, "geometryType": "esriGeometryPoint" }, { "subLayerIds": null, "maxScale": 0, "name": "farm", "defaultVisibility": false, "id": 13, "minScale": 9027.9774109999998, "supportsDynamicLegends": true, "type": "Feature Layer", "parentLayerId": 7, "geometryType": "esriGeometryPoint" }, { "subLayerIds": null, "maxScale": 0, "name": "osm_polygon_buildings", "defaultVisibility": true, "id": 18, "minScale": 18055.954822, "supportsDynamicLegends": true, "type": "Feature Layer", "parentLayerId": -1, "geometryType": "esriGeometryPolygon" }, { "subLayerIds": [ 21, 25, 32 ], "maxScale": 0, "name": "traffic", "defaultVisibility": true, "id": 19, "minScale": 0, "supportsDynamicLegends": false, "type": "Group Layer", "parentLayerId": -1 }, { "subLayerIds": [ 22, 23, 24 ], "maxScale": 0, "name": "bridge", "defaultVisibility": true, "id": 21, "minScale": 0, "supportsDynamicLegends": false, "type": "Group Layer", "parentLayerId": 19 }, { "subLayerIds": null, "maxScale": 0, "name": "osm_line_railway", "defaultVisibility": true, "id": 22, "minScale": 577790.55428899999, "supportsDynamicLegends": true, "type": "Feature Layer", "parentLayerId": 21, "geometryType": "esriGeometryPolyline" }, { "subLayerIds": null, "maxScale": 0, "name": "osm_line_highway", "defaultVisibility": true, "id": 23, "minScale": 4622324.4343090001, "supportsDynamicLegends": true, "type": "Feature Layer", "parentLayerId": 21, "geometryType": "esriGeometryPolyline" }, { "subLayerIds": null, "maxScale": 0, "name": "osm_line_highway_grey", "defaultVisibility": true, "id": 24, "minScale": 288895.27714399999, "supportsDynamicLegends": true, "type": "Feature Layer", "parentLayerId": 21, "geometryType": "esriGeometryPolyline" }, { "subLayerIds": [ 27, 28, 29, 30, 31 ], "maxScale": 0, "name": "Normalniveau", "defaultVisibility": true, "id": 25, "minScale": 0, "supportsDynamicLegends": false, "type": "Group Layer", "parentLayerId": 19 }, { "subLayerIds": null, "maxScale": 0, "name": "osm_polygon_highway", "defaultVisibility": true, "id": 27, "minScale": 18055.954822, "supportsDynamicLegends": true, "type": "Feature Layer", "parentLayerId": 25, "geometryType": "esriGeometryPolygon" }, { "subLayerIds": null, "maxScale": 0, "name": "osm_line_highway", "defaultVisibility": true, "id": 28, "minScale": 4622324.4343090001, "supportsDynamicLegends": true, "type": "Feature Layer", "parentLayerId": 25, "geometryType": "esriGeometryPolyline" }, { "subLayerIds": null, "maxScale": 0, "name": "osm_line_highway_grey", "defaultVisibility": true, "id": 29, "minScale": 288895.27714399999, "supportsDynamicLegends": true, "type": "Feature Layer", "parentLayerId": 25, "geometryType": "esriGeometryPolyline" }, { "subLayerIds": null, "maxScale": 0, "name": "osm_polygon_highway_grey", "defaultVisibility": true, "id": 30, "minScale": 18055.954822, "supportsDynamicLegends": true, "type": "Feature Layer", "parentLayerId": 25, "geometryType": "esriGeometryPolygon" }, { "subLayerIds": null, "maxScale": 0, "name": "osm_line_railway", "defaultVisibility": true, "id": 31, "minScale": 577790.55428899999, "supportsDynamicLegends": true, "type": "Feature Layer", "parentLayerId": 25, "geometryType": "esriGeometryPolyline" }, { "subLayerIds": [ 33, 34, 35 ], "maxScale": 0, "name": "tunnel", "defaultVisibility": true, "id": 32, "minScale": 0, "supportsDynamicLegends": false, "type": "Group Layer", "parentLayerId": 19 }, { "subLayerIds": null, "maxScale": 0, "name": "osm_line_highway", "defaultVisibility": true, "id": 33, "minScale": 4622324.4343090001, "supportsDynamicLegends": true, "type": "Feature Layer", "parentLayerId": 32, "geometryType": "esriGeometryPolyline" }, { "subLayerIds": null, "maxScale": 0, "name": "osm_line_highway_grey", "defaultVisibility": true, "id": 34, "minScale": 288895.27714399999, "supportsDynamicLegends": true, "type": "Feature Layer", "parentLayerId": 32, "geometryType": "esriGeometryPolyline" }, { "subLayerIds": null, "maxScale": 0, "name": "osm_line_railway", "defaultVisibility": true, "id": 35, "minScale": 577790.55428899999, "supportsDynamicLegends": true, "type": "Feature Layer", "parentLayerId": 32, "geometryType": "esriGeometryPolyline" }, { "subLayerIds": null, "maxScale": 0, "name": "osm_line_waterways", "defaultVisibility": true, "id": 40, "minScale": 0, "supportsDynamicLegends": true, "type": "Feature Layer", "parentLayerId": -1, "geometryType": "esriGeometryPolyline" }, { "subLayerIds": [ 42, 43, 44 ], "maxScale": 0, "name": "osm_polygon_water", "defaultVisibility": true, "id": 41, "minScale": 0, "supportsDynamicLegends": false, "type": "Group Layer", "parentLayerId": -1 }, { "subLayerIds": null, "maxScale": 0, "name": "riverbank, stream", "defaultVisibility": true, "id": 42, "minScale": 2311162.2171550002, "supportsDynamicLegends": true, "type": "Feature Layer", "parentLayerId": 41, "geometryType": "esriGeometryPolygon" }, { "subLayerIds": null, "maxScale": 0, "name": "reservoir", "defaultVisibility": true, "id": 43, "minScale": 144447.638572, "supportsDynamicLegends": true, "type": "Feature Layer", "parentLayerId": 41, "geometryType": "esriGeometryPolygon" }, { "subLayerIds": null, "maxScale": 0, "name": "osm_polygon_water", "defaultVisibility": true, "id": 44, "minScale": 1155581.108577, "supportsDynamicLegends": true, "type": "Feature Layer", "parentLayerId": 41, "geometryType": "esriGeometryPolygon" }, { "subLayerIds": null, "maxScale": 0, "name": "DGM1_Wue_3857_MultidirectionalHillshade_Clip.tif", "defaultVisibility": true, "id": 52, "minScale": 0, "supportsDynamicLegends": true, "type": "Raster Layer", "parentLayerId": -1 }, { "subLayerIds": null, "maxScale": 0, "name": "SRTM1_Hillshade_Wuerzburg.tif", "defaultVisibility": true, "id": 3, "minScale": 0, "supportsDynamicLegends": true, "type": "Raster Layer", "parentLayerId": -1 }, { "subLayerIds": [ 47, 48, 49, 50, 51 ], "maxScale": 0, "name": "osm_polygon_landuse", "defaultVisibility": true, "id": 46, "minScale": 0, "supportsDynamicLegends": false, "type": "Group Layer", "parentLayerId": -1 }, { "subLayerIds": null, "maxScale": 0, "name": "osm_polygon_landuse", "defaultVisibility": true, "id": 47, "minScale": 0, "supportsDynamicLegends": true, "type": "Feature Layer", "parentLayerId": 46, "geometryType": "esriGeometryPolygon" }, { "subLayerIds": null, "maxScale": 0, "name": "forest", "defaultVisibility": true, "id": 48, "minScale": 9244648.8686180003, "supportsDynamicLegends": true, "type": "Feature Layer", "parentLayerId": 46, "geometryType": "esriGeometryPolygon" }, { "subLayerIds": null, "maxScale": 0, "name": "park, nature_reserve, green, greenfield, landfill, village_greenosm_welt.public.osm_polygon_landuse", "defaultVisibility": true, "id": 49, "minScale": 1155581.108577, "supportsDynamicLegends": true, "type": "Feature Layer", "parentLayerId": 46, "geometryType": "esriGeometryPolygon" }, { "subLayerIds": null, "maxScale": 0, "name": "allotments, recreation_ground", "defaultVisibility": true, "id": 50, "minScale": 577790.55428899999, "supportsDynamicLegends": true, "type": "Feature Layer", "parentLayerId": 46, "geometryType": "esriGeometryPolygon" }, { "subLayerIds": null, "maxScale": 0, "name": "AreaOfInterest Würzburg", "defaultVisibility": true, "id": 51, "minScale": 0, "supportsDynamicLegends": true, "type": "Feature Layer", "parentLayerId": 46, "geometryType": "esriGeometryPolygon" } ], "mapName": "OSM_Wuerzburg_Hist", "minScale": 288895.27714399999, "archivingInfo": {"supportsHistoricMoment": false}, "spatialReference": { "falseM": -100000, "xyTolerance": 0.001, "mUnits": 10000, "zUnits": 10000, "latestWkid": 3857, "zTolerance": 0.001, "wkid": 102100, "xyUnits": 10000, "mTolerance": 0.001, "falseX": -20037700, "falseY": -30241100, "falseZ": -100000 }, "tileImageInfo": { "bandCount": 1, "lercError": 0, "format": "MIXED", "compressionQuality": 80 }, "fullExtent": { "ymin": 6394477.5342317726, "xmin": 1090036.6955308793, "ymax": 6420990.3951478843, "xmax": 1125120.6622678805, "spatialReference": { "falseM": -100000, "xyTolerance": 0.001, "mUnits": 10000, "zUnits": 10000, "latestWkid": 3857, "zTolerance": 0.001, "wkid": 102100, "xyUnits": 10000, "mTolerance": 0.001, "falseX": -20037700, "falseY": -30241100, "falseZ": -100000 } }, "supportedExtensions": "", "serviceItemId": "1b127d7f78d248c6a84e724e01c5b18d", "capabilities": "Query,Map,Data,TileMap", "supportsDynamicLayers": true, "maxScale": 2256.994353, "singleFusedMapCache": true, "currentVersion": 12.1, "storageInfo": { "storageFormat": "esriMapCacheStorageModeCompactV2", "packetSize": 128 }, "hasBranchVersionedData": false, "mapUnits": {"uwkid": 9001}, "referenceScale": 0, "floorAwareMapProperties": {"defaultFloorFilterSettings": {"isEnabled": false}}, "supportsSpatialFilter": true, "maxLOD": 7, "minLOD": 0, "supportedQueryFormats": "JSON, geoJSON, PBF", "datumTransformations": [ {"geoTransforms": [{ "latestWkid": 1149, "transformForward": true, "wkid": 1149, "name": "ETRS_1989_To_WGS_1984" }]}, {"geoTransforms": [{ "latestWkid": 1149, "transformForward": false, "wkid": 1149, "name": "ETRS_1989_To_WGS_1984" }]} ], "initialExtent": { "ymin": 6394477.5342317726, "xmin": 1088487.4355339753, "ymax": 6420990.3951478843, "xmax": 1126669.9222647846, "spatialReference": { "falseM": -100000, "xyTolerance": 0.001, "mUnits": 10000, "zUnits": 10000, "latestWkid": 3857, "zTolerance": 0.001, "wkid": 102100, "xyUnits": 10000, "mTolerance": 0.001, "falseX": -20037700, "falseY": -30241100, "falseZ": -100000 } }, "serviceDescription": "
Daten des OpenStreetMap-Projektes, angezeigt mit Darstellungsvorgaben des Labors für Geoinformationssysteme an der Technischen Hochschule Würzburg-Schweinfurt (THWS), Studie<\/span>nbereich Geo<\/span>.<\/span><\/p> Für die Kartengestaltung wurde bei einigen Layern auf die Esri-Style-Vorlage \"WaterWorld\" (https://esri-styles.maps.arcgis.com/home/item.html?id=84ac88d559664351a4652714ea40cd71) zurückgegriffen.<\/span><\/p><\/div><\/div><\/div><\/div>",
"copyrightText": "© OpenStreetMap-Mitwirkende<\/a>",
"supportsTimeRelation": true
}