{ "currentVersion": 11.5, "cimVersion": "3.5.0", "serviceDescription": "

Daten des OpenStreetMap-Projektes, angezeigt mit Darstellungsvorgaben des Labors für Geoinformationssysteme an der Technischen Hochschule Würzburg-Schweinfurt (THWS), Studie<\/SPAN>nbereich Geo<\/SPAN>.<\/SPAN><\/P>
Die Gestaltung der Karte ist angelehnt an den \"Historischen Stadtplan\", erstellt vom Fachbereich Tiefbau der Stadt Würzburg.<\/SPAN><\/P><\/DIV><\/DIV><\/DIV><\/DIV>", "mapName": "OSM_Wuerzburg_Stadt", "description": "

Daten des OpenStreetMap-Projektes, angezeigt mit Darstellungsvorgaben des Labors für Geoinformationssysteme an der Technischen Hochschule Würzburg-Schweinfurt (THWS), Studie<\/SPAN>nbereich Geo<\/SPAN>.<\/SPAN><\/P>
Die Gestaltung der Karte ist angelehnt an den \"Historischen Stadtplan\", erstellt vom Fachbereich Tiefbau der Stadt Würzburg.<\/SPAN><\/P><\/DIV><\/DIV><\/DIV><\/DIV>", "copyrightText": "© OpenStreetMap-Mitwirkende<\/a>", "supportsDynamicLayers": true, "layers": [ { "id": 5, "name": "osm_line_highway_oneway", "parentLayerId": -1, "defaultVisibility": true, "subLayerIds": null, "minScale": 4513.988705, "maxScale": 0, "type": "Feature Layer", "geometryType": "esriGeometryPolyline", "supportsDynamicLegends": true }, { "id": 6, "name": "osm_point_place", "parentLayerId": -1, "defaultVisibility": true, "subLayerIds": [ 7, 8, 9 ], "minScale": 0, "maxScale": 0, "type": "Group Layer", "supportsDynamicLegends": false }, { "id": 7, "name": "city", "parentLayerId": 6, "defaultVisibility": true, "subLayerIds": null, "minScale": 4622324.434309, "maxScale": 0, "type": "Feature Layer", "geometryType": "esriGeometryPoint", "supportsDynamicLegends": true }, { "id": 8, "name": "town", "parentLayerId": 6, "defaultVisibility": true, "subLayerIds": null, "minScale": 36111.909643, "maxScale": 0, "type": "Feature Layer", "geometryType": "esriGeometryPoint", "supportsDynamicLegends": true }, { "id": 9, "name": "village", "parentLayerId": 6, "defaultVisibility": true, "subLayerIds": null, "minScale": 36111.909643, "maxScale": 0, "type": "Feature Layer", "geometryType": "esriGeometryPoint", "supportsDynamicLegends": true }, { "id": 17, "name": "osm_polygon_buildings", "parentLayerId": -1, "defaultVisibility": true, "subLayerIds": null, "minScale": 18055.954822, "maxScale": 0, "type": "Feature Layer", "geometryType": "esriGeometryPolygon", "supportsDynamicLegends": true }, { "id": 18, "name": "traffic", "parentLayerId": -1, "defaultVisibility": true, "subLayerIds": [ 20, 24, 31 ], "minScale": 0, "maxScale": 0, "type": "Group Layer", "supportsDynamicLegends": false }, { "id": 20, "name": "bridge", "parentLayerId": 18, "defaultVisibility": true, "subLayerIds": [ 21, 22, 23 ], "minScale": 0, "maxScale": 0, "type": "Group Layer", "supportsDynamicLegends": false }, { "id": 21, "name": "osm_line_railway", "parentLayerId": 20, "defaultVisibility": true, "subLayerIds": null, "minScale": 577790.554289, "maxScale": 0, "type": "Feature Layer", "geometryType": "esriGeometryPolyline", "supportsDynamicLegends": true }, { "id": 22, "name": "osm_line_highway", "parentLayerId": 20, "defaultVisibility": true, "subLayerIds": null, "minScale": 4622324.434309, "maxScale": 0, "type": "Feature Layer", "geometryType": "esriGeometryPolyline", "supportsDynamicLegends": true }, { "id": 23, "name": "osm_line_highway_grey", "parentLayerId": 20, "defaultVisibility": true, "subLayerIds": null, "minScale": 288895.277144, "maxScale": 0, "type": "Feature Layer", "geometryType": "esriGeometryPolyline", "supportsDynamicLegends": true }, { "id": 24, "name": "Normalniveau", "parentLayerId": 18, "defaultVisibility": true, "subLayerIds": [ 26, 27, 28, 29, 30 ], "minScale": 0, "maxScale": 0, "type": "Group Layer", "supportsDynamicLegends": false }, { "id": 26, "name": "osm_polygon_highway", "parentLayerId": 24, "defaultVisibility": true, "subLayerIds": null, "minScale": 18055.954822, "maxScale": 0, "type": "Feature Layer", "geometryType": "esriGeometryPolygon", "supportsDynamicLegends": true }, { "id": 27, "name": "osm_line_highway", "parentLayerId": 24, "defaultVisibility": true, "subLayerIds": null, "minScale": 4622324.434309, "maxScale": 0, "type": "Feature Layer", "geometryType": "esriGeometryPolyline", "supportsDynamicLegends": true }, { "id": 28, "name": "osm_line_highway_grey", "parentLayerId": 24, "defaultVisibility": true, "subLayerIds": null, "minScale": 288895.277144, "maxScale": 0, "type": "Feature Layer", "geometryType": "esriGeometryPolyline", "supportsDynamicLegends": true }, { "id": 29, "name": "osm_polygon_highway_grey", "parentLayerId": 24, "defaultVisibility": true, "subLayerIds": null, "minScale": 18055.954822, "maxScale": 0, "type": "Feature Layer", "geometryType": "esriGeometryPolygon", "supportsDynamicLegends": true }, { "id": 30, "name": "osm_line_railway", "parentLayerId": 24, "defaultVisibility": true, "subLayerIds": null, "minScale": 577790.554289, "maxScale": 0, "type": "Feature Layer", "geometryType": "esriGeometryPolyline", "supportsDynamicLegends": true }, { "id": 31, "name": "tunnel", "parentLayerId": 18, "defaultVisibility": true, "subLayerIds": [ 32, 33, 34 ], "minScale": 0, "maxScale": 0, "type": "Group Layer", "supportsDynamicLegends": false }, { "id": 32, "name": "osm_line_highway", "parentLayerId": 31, "defaultVisibility": true, "subLayerIds": null, "minScale": 4622324.434309, "maxScale": 0, "type": "Feature Layer", "geometryType": "esriGeometryPolyline", "supportsDynamicLegends": true }, { "id": 33, "name": "osm_line_highway_grey", "parentLayerId": 31, "defaultVisibility": true, "subLayerIds": null, "minScale": 288895.277144, "maxScale": 0, "type": "Feature Layer", "geometryType": "esriGeometryPolyline", "supportsDynamicLegends": true }, { "id": 34, "name": "osm_line_railway", "parentLayerId": 31, "defaultVisibility": true, "subLayerIds": null, "minScale": 577790.554289, "maxScale": 0, "type": "Feature Layer", "geometryType": "esriGeometryPolyline", "supportsDynamicLegends": true }, { "id": 39, "name": "osm_line_waterways", "parentLayerId": -1, "defaultVisibility": true, "subLayerIds": null, "minScale": 0, "maxScale": 0, "type": "Feature Layer", "geometryType": "esriGeometryPolyline", "supportsDynamicLegends": true }, { "id": 40, "name": "osm_polygon_water", "parentLayerId": -1, "defaultVisibility": true, "subLayerIds": [ 41, 42, 43 ], "minScale": 0, "maxScale": 0, "type": "Group Layer", "supportsDynamicLegends": false }, { "id": 41, "name": "riverbank, stream", "parentLayerId": 40, "defaultVisibility": true, "subLayerIds": null, "minScale": 2311162.217155, "maxScale": 0, "type": "Feature Layer", "geometryType": "esriGeometryPolygon", "supportsDynamicLegends": true }, { "id": 42, "name": "reservoir", "parentLayerId": 40, "defaultVisibility": true, "subLayerIds": null, "minScale": 144447.638572, "maxScale": 0, "type": "Feature Layer", "geometryType": "esriGeometryPolygon", "supportsDynamicLegends": true }, { "id": 43, "name": "osm_polygon_water", "parentLayerId": 40, "defaultVisibility": true, "subLayerIds": null, "minScale": 1155581.108577, "maxScale": 0, "type": "Feature Layer", "geometryType": "esriGeometryPolygon", "supportsDynamicLegends": true }, { "id": 44, "name": "osm_polygon_landuse", "parentLayerId": -1, "defaultVisibility": true, "subLayerIds": [ 45, 46, 47, 48, 49 ], "minScale": 0, "maxScale": 0, "type": "Group Layer", "supportsDynamicLegends": false }, { "id": 45, "name": "osm_polygon_landuse", "parentLayerId": 44, "defaultVisibility": true, "subLayerIds": null, "minScale": 0, "maxScale": 0, "type": "Feature Layer", "geometryType": "esriGeometryPolygon", "supportsDynamicLegends": true }, { "id": 46, "name": "forest", "parentLayerId": 44, "defaultVisibility": true, "subLayerIds": null, "minScale": 9244648.868618, "maxScale": 0, "type": "Feature Layer", "geometryType": "esriGeometryPolygon", "supportsDynamicLegends": true }, { "id": 47, "name": "park, nature_reserve, green, greenfield, landfill, village_greenosm_welt.public.osm_polygon_landuse", "parentLayerId": 44, "defaultVisibility": true, "subLayerIds": null, "minScale": 1155581.108577, "maxScale": 0, "type": "Feature Layer", "geometryType": "esriGeometryPolygon", "supportsDynamicLegends": true }, { "id": 48, "name": "allotments, recreation_ground", "parentLayerId": 44, "defaultVisibility": true, "subLayerIds": null, "minScale": 577790.554289, "maxScale": 0, "type": "Feature Layer", "geometryType": "esriGeometryPolygon", "supportsDynamicLegends": true }, { "id": 49, "name": "AreaOfInterest Würzburg", "parentLayerId": 44, "defaultVisibility": true, "subLayerIds": null, "minScale": 0, "maxScale": 0, "type": "Feature Layer", "geometryType": "esriGeometryPolygon", "supportsDynamicLegends": true } ], "tables": [], "spatialReference": { "wkid": 102100, "latestWkid": 3857, "xyTolerance": 0.001, "zTolerance": 0.001, "mTolerance": 0.001, "falseX": -20037700, "falseY": -30241100, "xyUnits": 10000, "falseZ": -100000, "zUnits": 10000, "falseM": -100000, "mUnits": 10000 }, "singleFusedMapCache": true, "tileInfo": { "rows": 256, "cols": 256, "dpi": 96, "format": "MIXED", "compressionQuality": 80, "origin": { "x": -20037700, "y": 30241100 }, "spatialReference": { "wkid": 102100, "latestWkid": 3857, "xyTolerance": 0.001, "zTolerance": 0.001, "mTolerance": 0.001, "falseX": -20037700, "falseY": -30241100, "xyUnits": 10000, "falseZ": -100000, "zUnits": 10000, "falseM": -100000, "mUnits": 10000 }, "lods": [ { "level": 0, "resolution": 76.43702828507324, "scale": 288895.277144 }, { "level": 1, "resolution": 38.21851414253662, "scale": 144447.638572 }, { "level": 2, "resolution": 19.10925707126831, "scale": 72223.819286 }, { "level": 3, "resolution": 9.554628535634155, "scale": 36111.909643 }, { "level": 4, "resolution": 4.77731426794937, "scale": 18055.954822 }, { "level": 5, "resolution": 2.388657133974685, "scale": 9027.977411 }, { "level": 6, "resolution": 1.1943285668550503, "scale": 4513.988705 }, { "level": 7, "resolution": 0.5971642835598172, "scale": 2256.994353 } ] }, "storageInfo": { "storageFormat": "esriMapCacheStorageModeCompactV2", "packetSize": 128 }, "initialExtent": { "xmin": 1102881.2172702565, "ymin": 6408599.884454708, "xmax": 1107734.9685664931, "ymax": 6412541.168725765, "spatialReference": { "cs": "pcs", "wkid": 102100 } }, "fullExtent": { "xmin": 1090036.6955308793, "ymin": 6394477.534231773, "xmax": 1125120.6622678805, "ymax": 6420990.395147884, "spatialReference": { "cs": "pcs", "wkid": 102100 } }, "datesInUnknownTimezone": false, "minScale": 288895.277144, "maxScale": 2256.994353, "minLOD": 0, "maxLOD": 7, "units": "esriMeters", "supportedImageFormatTypes": "PNG32,PNG24,PNG,JPG,DIB,TIFF,EMF,PS,PDF,GIF,SVG,SVGZ,BMP", "documentInfo": { "Title": "OSM_Wuerzburg_Stadt", "Author": "", "Comments": "

Daten des OpenStreetMap-Projektes, angezeigt mit Darstellungsvorgaben des Labors für Geoinformationssysteme an der Technischen Hochschule Würzburg-Schweinfurt (THWS), Studie<\/SPAN>nbereich Geo<\/SPAN>.<\/SPAN><\/P>
Die Gestaltung der Karte ist angelehnt an den \"Historischen Stadtplan\", erstellt vom Fachbereich Tiefbau der Stadt Würzburg.<\/SPAN><\/P><\/DIV><\/DIV><\/DIV><\/DIV>", "Subject": "OpenStreetMap-Daten, angezeigt mit Darstellungsvorgaben des GIS-Labors an der Technischen Hochschule Würzburg-Schweinfurt (THWS)", "Category": "", "Version": "3.1.0", "AntialiasingMode": "Normal", "TextAntialiasingMode": "Normal", "Keywords": "OpenStreetMap,OSM,Würzburg" }, "supportsQueryDomains": true, "capabilities": "Map,Query,Data", "supportedQueryFormats": "JSON, geoJSON, PBF", "exportTilesAllowed": false, "referenceScale": 0.0, "datumTransformations": [ { "geoTransforms": [ { "wkid": 1149, "latestWkid": 1149, "transformForward": true, "name": "ETRS_1989_To_WGS_1984" } ] }, { "geoTransforms": [ { "wkid": 1149, "latestWkid": 1149, "transformForward": false, "name": "ETRS_1989_To_WGS_1984" } ] } ], "supportsDatumTransformation": true, "archivingInfo": {"supportsHistoricMoment": false}, "supportsClipping": true, "supportsSpatialFilter": true, "supportsTimeRelation": true, "supportsQueryDataElements": true, "mapUnits": {"uwkid": 9001}, "maxSelectionCount": 2000, "maxRecordCount": 2000, "maxImageHeight": 4096, "maxImageWidth": 4096, "supportedExtensions": "", "serviceItemId": "bd63f91bcaf845fc8947d1c6ecc8305f" }