{
 "documentInfo": {
  "Category": "",
  "Keywords": "Ashaiman,Ghana,DOP",
  "Version": "3.3.0",
  "Comments": "Die Daten wurden von Studierenden des THWS-Studienbereichs Geo mit Hilfe von Drohnen erfasst und werden für die Lehrveranstaltung Projektbezogene Geovisualisierung I (BGV1) benötigt.",
  "AntialiasingMode": "Normal",
  "Title": "DOP_Ashaiman",
  "Author": "",
  "TextAntialiasingMode": "Normal",
  "Subject": "Ausschnitt eines Digitalen Orthophoto von Ashaiman (Ghana)"
 },
 "maxImageWidth": 4096,
 "wmtsScaleFactor": 0.00028000000000003521,
 "maxRecordCount": 2000,
 "tileInfo": {
  "lods": [
   {
    "level": 0,
    "scale": 6400,
    "resolution": 1.6933367200067735
   },
   {
    "level": 1,
    "scale": 3200,
    "resolution": 0.84666836000338674
   },
   {
    "level": 2,
    "scale": 1600,
    "resolution": 0.42333418000169337
   },
   {
    "level": 3,
    "scale": 800,
    "resolution": 0.21166709000084669
   },
   {
    "level": 4,
    "scale": 400,
    "resolution": 0.10583354500042334
   },
   {
    "level": 5,
    "scale": 200,
    "resolution": 0.052916772500211672
   },
   {
    "level": 6,
    "scale": 100,
    "resolution": 0.026458386250105836
   },
   {
    "level": 7,
    "scale": 50,
    "resolution": 0.013229193125052918
   },
   {
    "level": 8,
    "scale": 25,
    "resolution": 0.0066145965625264589
   }
  ],
  "origin": {
   "x": -5120900,
   "y": 9998100
  },
  "format": "MIXED",
  "compressionQuality": 85,
  "rows": 256,
  "dpi": 96,
  "spatialReference": {
   "falseM": -100000,
   "xyTolerance": 0.001,
   "mUnits": 10000,
   "zUnits": 10000,
   "latestWkid": 32630,
   "zTolerance": 0.001,
   "wkid": 32630,
   "xyUnits": 10000,
   "mTolerance": 0.001,
   "falseX": -5120900,
   "falseY": -9998100,
   "falseZ": -100000
  },
  "cols": 256
 },
 "description": "Die Daten wurden von Studierenden des THWS-Studienbereichs Geo mit Hilfe von Drohnen erfasst und werden für die Lehrveranstaltung Projektbezogene Geovisualisierung I (BGV1) benötigt.",
 "datesInUnknownTimezone": false,
 "supportsQueryDomains": true,
 "units": "esriMeters",
 "maxSelectionCount": 2000,
 "supportedImageFormatTypes": "PNG32,PNG24,PNG,JPG,DIB,TIFF,EMF,PS,PDF,GIF,SVG,SVGZ,BMP",
 "supportsClipping": true,
 "exportTilesAllowed": false,
 "maxImageHeight": 4096,
 "tables": [],
 "hasVersionedData": false,
 "supportsDatumTransformation": true,
 "cimVersion": "3.7.0",
 "supportsQueryDataElements": true,
 "layers": [
  {
   "subLayerIds": [
    1,
    2,
    3
   ],
   "maxScale": 0,
   "name": "DOP",
   "defaultVisibility": true,
   "id": 0,
   "minScale": 0,
   "supportsDynamicLegends": false,
   "type": "Mosaic Layer",
   "parentLayerId": -1
  },
  {
   "subLayerIds": null,
   "maxScale": 0,
   "name": "Grenze",
   "defaultVisibility": false,
   "id": 1,
   "minScale": 0,
   "supportsDynamicLegends": true,
   "type": "Feature Layer",
   "parentLayerId": 0,
   "geometryType": "esriGeometryPolygon"
  },
  {
   "subLayerIds": null,
   "maxScale": 0,
   "name": "Footprint",
   "defaultVisibility": false,
   "id": 2,
   "minScale": 0,
   "supportsDynamicLegends": true,
   "type": "Feature Layer",
   "parentLayerId": 0,
   "geometryType": "esriGeometryPolygon"
  },
  {
   "subLayerIds": null,
   "maxScale": 0,
   "name": "Bild",
   "defaultVisibility": true,
   "id": 3,
   "minScale": 0,
   "supportsDynamicLegends": true,
   "type": "Raster Layer",
   "parentLayerId": 0
  }
 ],
 "mapName": "DOP",
 "minScale": 6400,
 "archivingInfo": {
  "supportsHistoricMoment": false
 },
 "spatialReference": {
  "falseM": -100000,
  "xyTolerance": 0.001,
  "mUnits": 10000,
  "zUnits": 10000,
  "latestWkid": 32630,
  "zTolerance": 0.001,
  "wkid": 32630,
  "xyUnits": 10000,
  "mTolerance": 0.001,
  "falseX": -5120900,
  "falseY": -9998100,
  "falseZ": -100000
 },
 "tileImageInfo": {
  "bandCount": 1,
  "lercError": 0,
  "format": "MIXED",
  "compressionQuality": 85
 },
 "fullExtent": {
  "ymin": 628799.98726000008,
  "xmin": 827999.98730000015,
  "ymax": 629800.00470999908,
  "xmax": 829400.01180000044,
  "spatialReference": {
   "falseM": -100000,
   "xyTolerance": 0.001,
   "mUnits": 10000,
   "zUnits": 10000,
   "latestWkid": 32630,
   "zTolerance": 0.001,
   "wkid": 32630,
   "xyUnits": 10000,
   "mTolerance": 0.001,
   "falseX": -5120900,
   "falseY": -9998100,
   "falseZ": -100000
  }
 },
 "supportedExtensions": "",
 "serviceItemId": "5e61141bda734a9f90869f6c0b5ec744",
 "capabilities": "Query,Map,Data",
 "supportsDynamicLayers": false,
 "maxScale": 25,
 "singleFusedMapCache": true,
 "currentVersion": 12.1,
 "storageInfo": {
  "storageFormat": "esriMapCacheStorageModeCompactV2",
  "packetSize": 128
 },
 "hasBranchVersionedData": false,
 "mapUnits": {
  "uwkid": 9001
 },
 "referenceScale": 0,
 "floorAwareMapProperties": {
  "defaultFloorFilterSettings": {
   "isEnabled": false
  }
 },
 "supportsSpatialFilter": true,
 "maxLOD": 8,
 "minLOD": 0,
 "supportedQueryFormats": "JSON, geoJSON, PBF",
 "initialExtent": {
  "ymin": 628943.65996113245,
  "xmin": 828100.63990942331,
  "ymax": 629645.35412449308,
  "xmax": 829013.61530189856,
  "spatialReference": {
   "falseM": -100000,
   "xyTolerance": 0.001,
   "mUnits": 10000,
   "zUnits": 10000,
   "latestWkid": 32630,
   "zTolerance": 0.001,
   "wkid": 32630,
   "xyUnits": 10000,
   "mTolerance": 0.001,
   "falseX": -5120900,
   "falseY": -9998100,
   "falseZ": -100000
  }
 },
 "serviceDescription": " Die Daten <\/span>wurden von Studierenden des THWS-Studienbereichs Geo mit Hilfe von Drohnen erfasst und <\/span>werden für die Lehrveranstaltung Projektbezogene Geovisualisierung I (BGV1) benötigt.<\/span><\/p><\/div>",
 "copyrightText": "THWS | Studienbereich Geo",
 "supportsTimeRelation": true
}
