View In:
ArcGIS JavaScript
ArcGIS Online Map Viewer
ArcGIS Earth
ArcGIS Pro
Service Description: <div style='text-align:Left;font-size:12pt'><div><div><p><span>Karte des Campus Röntgenring der Technischen Hochschule Würzburg-Schweinfurt (THWS).</span></p><p><span /></p><p><span>Die </span><span>Karte </span><span>wurde im Labor für Geoinformationssysteme im Studienbereich Geo erstellt. Sie dient als Grundkarte für das Campus-Informationssystem der Hochschule.</span></p></div></div></div>
Map Name: sde_Campus_RoeRi_Basemap
Legend
All Layers and Tables
Dynamic Legend
Dynamic All Layers
Layers:
Description: Karte des Campus Röntgenring der Technischen Hochschule Würzburg-Schweinfurt (THWS).Die Karte wurde im Labor für Geoinformationssysteme im Studienbereich Geo erstellt. Sie dient als Grundkarte für das Campus-Informationssystem der Hochschule.
Service Item Id: 6d3af834f25945eb942e3fdc70b3236e
Copyright Text: © THWS - GIS-Labor
Spatial Reference:
102100
(3857)
Single Fused Map Cache: true
Tile Info:
- Height: 256.0
- Width: 256.0
- DPI: 96.0
-
Levels of Detail: 8
-
Level ID: 0
[ Start Tile, End Tile ]
- Resolution: 2.3886571339746849
- Scale: 9027.9774109999998
-
Level ID: 1
[ Start Tile, End Tile ]
- Resolution: 1.1943285669873425
- Scale: 4513.9887054999999
-
Level ID: 2
[ Start Tile, End Tile ]
- Resolution: 0.59716428342752514
- Scale: 2256.9943524999999
-
Level ID: 4
[ Start Tile, End Tile ]
- Resolution: 0.14929107082380833
- Scale: 564.24858800000004
-
Level ID: 5
[ Start Tile, End Tile ]
- Resolution: 0.074645535411904163
- Scale: 282.12429400000002
-
Level ID: 6
[ Start Tile, End Tile ]
- Resolution: 0.037322767705952081
- Scale: 141.06214700000001
-
Level ID: 7
[ Start Tile, End Tile ]
- Resolution: 0.018661383852976041
- Scale: 70.531073500000005
- Format: MIXED
- Compression Quality: 90.0
- Origin: X: -2.00377E7
Y: 3.02411E7
- Spatial Reference: 102100
(3857)
Storage Info:
- Storage Format: esriMapCacheStorageModeCompactV2
- Packet Size: 128
Initial Extent:
XMin: 1105186.9952922305
YMin: 6411367.362100308
XMax: 1105925.7803770937
YMax: 6411947.681040621
Spatial Reference: 102100
(3857)
Full Extent:
XMin: 1105264.0522000007
YMin: 6411480.980599999
XMax: 1105856.0513999984
YMax: 6411831.745700002
Spatial Reference: 102100
(3857)
Units: esriMeters
Supported Image Format Types: PNG32,PNG24,PNG,JPG,DIB,TIFF,EMF,PS,PDF,GIF,SVG,SVGZ,BMP
Document Info:
Title: sde_Campus_RoeRi_Besemap
Author:
Comments: Karte des Campus Röntgenring der Technischen Hochschule Würzburg-Schweinfurt (THWS).Die Karte wurde im Labor für Geoinformationssysteme im Studienbereich Geo erstellt. Sie dient als Grundkarte für das Campus-Informationssystem der Hochschule.
Subject: Karte des Campus Röntgenring der Technischen Hochschule Würzburg-Schweinfurt (THWS)
Category:
Keywords: THWS,Technische Hochschule,Würzburg,Campus,Röntgenring
AntialiasingMode: Normal
TextAntialiasingMode: None
Supports Dynamic Layers: true
Resampling: false
MaxRecordCount: 2000
MaxSelectionCount: 2000
MaxImageHeight: 4096
MaxImageWidth: 4096
Supported Query Formats: JSON, geoJSON, PBF
Supports Query Data Elements: true
Min Scale: 9027.9774109999998
Max Scale: 70.531073500000005
Min LOD: 0
Max LOD: 7
Supports Datum Transformation: true
Child Resources:
Info
Dynamic Layer
Supported Operations:
Export Map
Identify
QueryLegends
QueryDomains
Find
Return Updates