View In:
ArcGIS JavaScript
ArcGIS Online Map Viewer
ArcGIS Earth
ArcGIS Pro
Service Description: <div style='text-align:Left;font-size:12pt'><div><div><p><span>Daten des OpenStreetMap-Projektes, angezeigt mit Darstellungsvorgaben des Labors für Geoinformationssysteme an der Technischen Hochschule Würzburg-Schweinfurt (THWS), Studie</span><span>nbereich Geo</span><span>.</span></p><p><span>Für die Kartengestaltung wurde bei einigen Layern auf die Esri-Style-Vorlage "</span><span>Sketch</span><span>" (https://esri-styles.maps.arcgis.com/home/item.html?id=365ce8ecdaa242ce9aabcd1668f8f660, https://www.esri.com/arcgis-blog/products/arcgis-pro/mapping/how-to-make-a-super-sketchy-looking-map/) zurückgegriffen.</span></p></div></div></div>
Map Name: OSM_Wuerzburg_Sketch
Legend
All Layers and Tables
Dynamic Legend
Dynamic All Layers
Layers:
Description: Daten des OpenStreetMap-Projektes, angezeigt mit Darstellungsvorgaben des Labors für Geoinformationssysteme an der Technischen Hochschule Würzburg-Schweinfurt (THWS), Studienbereich Geo.Für die Kartengestaltung wurde bei einigen Layern auf die Esri-Style-Vorlage "Sketch" (https://esri-styles.maps.arcgis.com/home/item.html?id=365ce8ecdaa242ce9aabcd1668f8f660, https://www.esri.com/arcgis-blog/products/arcgis-pro/mapping/how-to-make-a-super-sketchy-looking-map/) zurückgegriffen.
Service Item Id: fc05a8cd13344af99f484860d8e9cc94
Copyright Text: © <a href='http://www.openstreetmap.org/copyright' target='_blank'>OpenStreetMap-Mitwirkende</a>
Spatial Reference:
102100
(3857)
Single Fused Map Cache: true
Tile Info:
- Height: 256.0
- Width: 256.0
- DPI: 96.0
-
Levels of Detail: 8
-
Level ID: 0
[ Start Tile, End Tile ]
- Resolution: 76.437028285073239
- Scale: 288895.27714399999
-
Level ID: 2
[ Start Tile, End Tile ]
- Resolution: 19.10925707126831
- Scale: 72223.819285999998
-
Level ID: 3
[ Start Tile, End Tile ]
- Resolution: 9.5546285356341549
- Scale: 36111.909642999999
-
Level ID: 5
[ Start Tile, End Tile ]
- Resolution: 2.3886571339746849
- Scale: 9027.9774109999998
-
Level ID: 6
[ Start Tile, End Tile ]
- Resolution: 1.1943285668550503
- Scale: 4513.9887049999998
- Format: MIXED
- Compression Quality: 80.0
- Origin: X: -2.00377E7
Y: 3.02411E7
- Spatial Reference: 102100
(3857)
Storage Info:
- Storage Format: esriMapCacheStorageModeCompactV2
- Packet Size: 128
Initial Extent:
XMin: 1102650.3581877502
YMin: 6408710.296463964
XMax: 1108365.9634468898
YMax: 6412679.054401479
Spatial Reference: 102100
(3857)
Full Extent:
XMin: 1090036.6955308793
YMin: 6394477.534231773
XMax: 1125120.6622678805
YMax: 6420990.395147884
Spatial Reference: 102100
(3857)
Units: esriMeters
Supported Image Format Types: PNG32,PNG24,PNG,JPG,DIB,TIFF,EMF,PS,PDF,GIF,SVG,SVGZ,BMP
Document Info:
Title: OSM_Wuerzburg_Sketch
Author:
Comments: Daten des OpenStreetMap-Projektes, angezeigt mit Darstellungsvorgaben des Labors für Geoinformationssysteme an der Technischen Hochschule Würzburg-Schweinfurt (THWS), Studienbereich Geo.Für die Kartengestaltung wurde bei einigen Layern auf die Esri-Style-Vorlage "Sketch" (https://esri-styles.maps.arcgis.com/home/item.html?id=365ce8ecdaa242ce9aabcd1668f8f660, https://www.esri.com/arcgis-blog/products/arcgis-pro/mapping/how-to-make-a-super-sketchy-looking-map/) zurückgegriffen.
Subject: OpenStreetMap-Daten, angezeigt mit Darstellungsvorgaben des GIS-Labors an der Technischen Hochschule Würzburg-Schweinfurt (THWS)
Category:
Keywords: OpenStreetMap,OSM,Würzburg
AntialiasingMode: Fast
TextAntialiasingMode: Force
Supports Dynamic Layers: true
MaxRecordCount: 2000
MaxSelectionCount: 2000
MaxImageHeight: 4096
MaxImageWidth: 4096
Supported Query Formats: JSON, geoJSON, PBF
Supports Query Data Elements: true
Min Scale: 288895.27714399999
Max Scale: 2256.994353
Min LOD: 0
Max LOD: 7
Supports Datum Transformation: true
Child Resources:
Info
Dynamic Layer
Supported Operations:
Export Map
Identify
QueryLegends
QueryDomains
Find
Return Updates