View In:
ArcGIS JavaScript
ArcGIS Online Map Viewer
ArcGIS Earth
Service Description: Campus/Gelaende_Campus_RoeRi_EG
Name: Campus/Gelaende_Campus_RoeRi_EG
Description:
Single Fused Map Cache: true
Tile Info:
- Height: 256
- Width: 256
- DPI: 96
-
Levels of Detail: 8
-
Level ID: 0
[ Start Tile, End Tile ]
- Resolution: 2.3886571339746849
- Scale: 9027.9774109999998
-
Level ID: 1
[ Start Tile, End Tile ]
- Resolution: 1.1943285669873425
- Scale: 4513.9887054999999
-
Level ID: 2
[ Start Tile, End Tile ]
- Resolution: 0.59716428342752514
- Scale: 2256.9943524999999
-
Level ID: 4
[ Start Tile, End Tile ]
- Resolution: 0.14929107082380833
- Scale: 564.24858800000004
-
Level ID: 5
[ Start Tile, End Tile ]
- Resolution: 0.074645535411904163
- Scale: 282.12429400000002
-
Level ID: 6
[ Start Tile, End Tile ]
- Resolution: 0.037322767705952081
- Scale: 141.06214700000001
-
Level ID: 7
[ Start Tile, End Tile ]
- Resolution: 0.018661383852976041
- Scale: 70.531073500000005
- Format: LERC
- Compression Quality: 0.0
- LERC Error: 0.05
- Origin: X: -2.00377E7
Y: 3.02411E7
- Spatial Reference: 102100
(3857)
Storage Info:
- Storage Format: esriMapCacheStorageModeCompactV2
- Packet Size: 128
Extent:
XMin: 1105020.2782000005
YMin: 6411266.735799998
XMax: 1106061.0782000006
YMax: 6412054.235799998
Spatial Reference: 102100
(3857)
Initial Extent:
XMin: 1105020.2782000005
YMin: 6411266.735799998
XMax: 1106061.0782000006
YMax: 6412054.235799998
Spatial Reference: 102100
(3857)
Full Extent:
XMin: 1105020.2782000005
YMin: 6411266.735799998
XMax: 1106061.0782000006
YMax: 6412054.235799998
Spatial Reference: 102100
(3857)
Pixel Size X: 0.10000000000000447
Pixel Size Y: 0.1
Band Count: 1
Pixel Type: F32
RasterFunction Infos: {"rasterFunctionInfos": [{
"help": "",
"name": "None",
"description": ""
}]}
Mensuration Capabilities: Basic
Inspection Capabilities:
Has Histograms: true
Has Colormap: false
Has Multi Dimensions : false
Rendering Rule:
Min Scale: 9027.9774109999998
Max Scale: 70.531073500000005
Min LOD: 0
Max LOD: 7
Copyright Text:
Service Data Type: esriImageServiceDataTypeGeneric
Min Values: 168.25180053711
Max Values: 182.05842590332
Mean Values: 174.32668812412999
Standard Deviation Values: 2.0215735664963002
Object ID Field:
Fields:
None
Default Mosaic Method: Center
Allowed Mosaic Methods:
SortField:
SortValue: N/A
Mosaic Operator: First
Default Compression Quality: 75
Default Resampling Method: Bilinear
Max Record Count: null
Max Image Height: 4100
Max Image Width: 15000
Max Download Image Count: null
Max Mosaic Image Count: null
Allow Raster Function: true
Allow Copy: true
Allow Analysis: true
Allow Compute TiePoints: false
Supports Statistics: false
Supports Advanced Queries: false
Use StandardizedQueries: false
Raster Type Infos:
Name: Raster Dataset
Description: Supports all ArcGIS Raster Datasets
Help:
Has Raster Attribute Table: false
Edit Fields Info: N/A
Ownership Based AccessControl For Rasters: N/A
Child Resources:
Info
Histograms
Statistics
Key Properties
Legend
Raster Function Infos
Supported Operations:
Export Image
Identify
Measure
Compute Histograms
Compute Statistics Histograms
Get Samples
Compute Class Statistics
Query Boundary
Compute Pixel Location
Compute Angles
Validate
Project