View In:
ArcGIS JavaScript
ArcGIS Online Map Viewer
ArcGIS Earth
Service Description: ExtractBands_UAV_06_06__Clip
Name: ExtractBands_UAV_06_06__Clip
Description:
Single Fused Map Cache: false
Extent:
XMin: 558766.4208000004
YMin: 5530376.144300001
XMax: 558882.3603000004
YMax: 5530498.109000001
Spatial Reference: 32632
(32632)
Initial Extent:
XMin: 558766.4208000004
YMin: 5530376.144300001
XMax: 558882.3603000004
YMax: 5530498.109000001
Spatial Reference: 32632
(32632)
Full Extent:
XMin: 558766.4208000004
YMin: 5530376.144300001
XMax: 558882.3603000004
YMax: 5530498.109000001
Spatial Reference: 32632
(32632)
Pixel Size X: 0.007949773724628262
Pixel Size Y: 0.007949726241712984
Band Count: 10
Pixel Type: U8
RasterFunction Infos: {"rasterFunctionInfos": [{
"help": "",
"name": "None",
"description": ""
}]}
Mensuration Capabilities: Basic
Inspection Capabilities:
Has Histograms: true
Has Colormap: false
Has Multi Dimensions : false
Rendering Rule:
Min Scale: 0
Max Scale: 0
Copyright Text:
Service Data Type: esriImageServiceDataTypeGeneric
Min Values: 1, 0, 11, 9, 8, 14, 5, 4, 8, 35
Max Values: 255, 255, 255, 255, 254, 255, 255, 254, 251, 239
Mean Values: 115.16558077359696, 77.109677998890916, 136.77816642378565, 117.6116101745306, 123.59920479191916, 127.09977087187681, 150.34765122935758, 134.72738770189216, 133.42841175915714, 161.22642681782546
Standard Deviation Values: 39.944213757878849, 39.727746086027814, 40.097936547890086, 31.707683070816703, 33.498187286164864, 34.402735394187026, 45.921438699560888, 40.402309159815339, 28.70343408697558, 26.151203505138593
Object ID Field:
Fields:
None
Default Mosaic Method: Center
Allowed Mosaic Methods:
SortField:
SortValue: N/A
Mosaic Operator: First
Default Compression Quality: 75
Default Resampling Method: Bilinear
Max Record Count: null
Max Image Height: 4100
Max Image Width: 15000
Max Download Image Count: null
Max Mosaic Image Count: null
Allow Raster Function: true
Allow Copy: true
Allow Analysis: true
Allow Compute TiePoints: false
Supports Statistics: false
Supports Advanced Queries: false
Use StandardizedQueries: false
Raster Type Infos:
Name: Raster Dataset
Description: Supports all ArcGIS Raster Datasets
Help:
Has Raster Attribute Table: false
Edit Fields Info: N/A
Ownership Based AccessControl For Rasters: N/A
Child Resources:
Info
Histograms
Statistics
Key Properties
Legend
Raster Function Infos
Supported Operations:
Export Image
Identify
Measure
Compute Histograms
Compute Statistics Histograms
Get Samples
Compute Class Statistics
Query Boundary
Compute Pixel Location
Compute Angles
Validate
Project