View In:
ArcGIS JavaScript
ArcGIS Online Map Viewer
ArcGIS Earth
ArcGIS Pro
Service Description: <div style='text-align:Left;'><div><div style='font-size:12pt'><p><span>Daten des OpenStreetMap-Projektes, angezeigt mit Darstellungsvorgaben des Labors für Geoinformationssysteme an der </span><span>Technischen </span><span>Hochschule Würzburg-Schweinfurt</span><span> (THWS)</span><span>, Studie</span><span>nbereich Geo</span><span>.</span></p></div></div></div>
Map Name: OSM_THWS_grey
Legend
All Layers and Tables
Dynamic Legend
Dynamic All Layers
Layers:
Description: Daten des OpenStreetMap-Projektes, angezeigt mit Darstellungsvorgaben des Labors für Geoinformationssysteme an der Technischen Hochschule Würzburg-Schweinfurt (THWS), Studienbereich Geo.
Service Item Id: f1012eb2ad61469295011f027197b6ab
Copyright Text: © <a href='http://www.openstreetmap.org/copyright' target='_blank'>OpenStreetMap-Mitwirkende</a>
Spatial Reference:
102100
(3857)
Single Fused Map Cache: true
Tile Info:
- Height: 256.0
- Width: 256.0
- DPI: 96.0
-
Levels of Detail: 9
-
Level ID: 0
[ Start Tile, End Tile ]
- Resolution: 152.87405657041106
- Scale: 577790.55428899999
-
Level ID: 1
[ Start Tile, End Tile ]
- Resolution: 76.437028285073239
- Scale: 288895.27714399999
-
Level ID: 3
[ Start Tile, End Tile ]
- Resolution: 19.10925707126831
- Scale: 72223.819285999998
-
Level ID: 4
[ Start Tile, End Tile ]
- Resolution: 9.5546285356341549
- Scale: 36111.909642999999
-
Level ID: 6
[ Start Tile, End Tile ]
- Resolution: 2.3886571339746849
- Scale: 9027.9774109999998
-
Level ID: 7
[ Start Tile, End Tile ]
- Resolution: 1.1943285668550503
- Scale: 4513.9887049999998
- Format: MIXED
- Compression Quality: 85.0
- Origin: X: -2.00377E7
Y: 3.02411E7
- Spatial Reference: 102100
(3857)
Storage Info:
- Storage Format: esriMapCacheStorageModeCompactV2
- Packet Size: 128
Initial Extent:
XMin: 1095720.5984755072
YMin: 6400784.53965711
XMax: 1116697.844993002
YMax: 6416626.113769192
Spatial Reference: 102100
(3857)
Full Extent:
XMin: 998520.3713752669
YMin: 6308794.612287886
XMax: 1269057.6560836989
YMax: 6550865.400533408
Spatial Reference: 102100
(3857)
Units: esriMeters
Supported Image Format Types: PNG32,PNG24,PNG,JPG,DIB,TIFF,EMF,PS,PDF,GIF,SVG,SVGZ,BMP
Document Info:
Title: OSM_FHWS_grey
Author:
Comments: Daten des OpenStreetMap-Projektes, angezeigt mit Darstellungsvorgaben des Labors für Geoinformationssysteme an der Hochschule für angewandte Wissenschaften Würzburg-Schweinfurt, Studienbereich Geo.
Subject: OpenStreetMap-Daten, angezeigt mit Darstellungsvorgaben des GIS-Labors an der Hochschule Würzburg-Schweinfurt
Category:
Keywords: OpenStreetMap,OSM,Würzburg
AntialiasingMode: Normal
TextAntialiasingMode: None
Supports Dynamic Layers: true
Resampling: false
MaxRecordCount: 2000
MaxSelectionCount: 2000
MaxImageHeight: 4096
MaxImageWidth: 4096
Supported Query Formats: JSON, geoJSON, PBF
Supports Query Data Elements: true
Min Scale: 577790.55428899999
Max Scale: 2256.994353
Min LOD: 0
Max LOD: 8
Supports Datum Transformation: true
Child Resources:
Info
Dynamic Layer
Supported Operations:
Export Map
Identify
QueryLegends
QueryDomains
Find
Return Updates